BEGIN:VCALENDAR
VERSION:2.0
PRODID:-//wp-events-plugin.com//7.2.3.1//EN
TZID:America/Detroit
X-WR-TIMEZONE:America/Detroit
BEGIN:VEVENT
UID:35118@arabamerica.com
DTSTART;TZID=America/Detroit:20251017T190000
DTEND;TZID=America/Detroit:20251017T210000
DTSTAMP:20250915T211346Z
URL:https://www.arabamerica.com/events/gaza-food-aid-concert/
SUMMARY:Gaza Food Aid Concert
DESCRIPTION:BOSTON\, MA\n\n\n\nThis benefit concert will feature perfrorman
 ce by outstanding American\, Israeli and Arabic musicians. It will take pl
 ace in-person at the Theodore Parker Unitarian Church in West Roxbury\, Ma
 ss on Friday October 17 from 7-9 PM. Tickets for $20.00 are available on E
 ventBrite--https://gazafoodaidconcert.eventbrite.org and also at the door.
  It aoso wioll be live streamed at https://Youtube.com/live/WJ1PJIQq_vE
ATTACH;FMTTYPE=image/jpeg:https://www.arabamerica.com/wp-content/uploads/2
 025/09/https-cdn.evbuc_.com-images-1124431193-62137475759-1-original.20250
 915-152400.jpeg
LOCATION:Theodore Parker Unitarian Church\, 1859 Centre Street \, Boston\, 
 MA\, 02132\, United States
GEO:42.286347;-71.155296
X-APPLE-STRUCTURED-LOCATION;VALUE=URI;X-ADDRESS=1859 Centre Street \, Bosto
 n\, MA\, 02132\, United States;X-APPLE-RADIUS=100;X-TITLE=Theodore Parker 
 Unitarian Church:geo:42.286347,-71.155296
END:VEVENT
BEGIN:VTIMEZONE
TZID:America/Detroit
X-LIC-LOCATION:America/Detroit
BEGIN:DAYLIGHT
DTSTART:20250309T030000
TZOFFSETFROM:-0500
TZOFFSETTO:-0400
TZNAME:EDT
END:DAYLIGHT
END:VTIMEZONE
END:VCALENDAR