BEGIN:VCALENDAR
VERSION:2.0
PRODID:-//wp-events-plugin.com//7.2.3.1//EN
TZID:America/Detroit
X-WR-TIMEZONE:America/Detroit
BEGIN:VEVENT
UID:35258@arabamerica.com
DTSTART;TZID=America/New_York:20251028T190000
DTEND;TZID=America/New_York:20251028T233000
DTSTAMP:20251015T021434Z
URL:https://www.arabamerica.com/events/gaza-halloween-benefit/
SUMMARY:Gaza Halloween Benefit
DESCRIPTION:BROOKLYN NY\n\n&nbsp\;\n\nft. boysee\, Rose House\, Forrest Phi
 lpot &amp\; Yuwy\n\nAbout this event\n\nMusic\n\n\n\n\n\n\nHelp Gaza AND p
 arty at the same time. The Gaza Halloween Benefit features Brooklyn bands\
 , a "red\, white\, black\, and green" themed costume contest\, and a raffl
 e with prizes you might win. Limited tickets\, so get them while you can!\
 n\nAll proceeds go to Gaza Soup Kitchen (https://gazasoupkitchen.org).Gaza
  Soup Kitchen is a grassroots\, volunteer-run organization feeding thousan
 ds of displaced families across Gaza each day. Founded and led by Gazans\,
  it sources food locally to stretch every dollar and reach those most in n
 eed\, even in areas where international aid can’t safely operate.\n\n$12
  EARLY BIRD TICKETS\n\n$18 AFTER 10/21\n\n$23 DAY OF SHOW\n\nLineup:\n\nbo
 ysee\n\nRose House\n\nForrest Philpot\n\nYuwy\n\n\n\n\n\n\n\n\n\n\n\n&nbsp
 \;
ATTACH;FMTTYPE=image/jpeg:https://www.arabamerica.com/wp-content/uploads/2
 025/10/Screenshot-2025-10-14-at-10.06.25-PM.png
LOCATION:The Broadway\, 1272 Broadway\, Brooklyn\, United States
GEO:40.690943;-73.92489
X-APPLE-STRUCTURED-LOCATION;VALUE=URI;X-ADDRESS=1272 Broadway\, Brooklyn\, 
 United States;X-APPLE-RADIUS=100;X-TITLE=The Broadway:geo:40.690943,-73.92
 489
END:VEVENT
BEGIN:VTIMEZONE
TZID:America/New_York
X-LIC-LOCATION:America/New_York
BEGIN:DAYLIGHT
DTSTART:20250309T030000
TZOFFSETFROM:-0500
TZOFFSETTO:-0400
TZNAME:EDT
END:DAYLIGHT
END:VTIMEZONE
END:VCALENDAR