BEGIN:VCALENDAR
VERSION:2.0
PRODID:-//wp-events-plugin.com//7.2.3.1//EN
TZID:America/Detroit
X-WR-TIMEZONE:America/Detroit
BEGIN:VEVENT
UID:35196@arabamerica.com
DTSTART;TZID=America/Detroit:20251018T120000
DTEND;TZID=America/Detroit:20251018T180000
DTSTAMP:20251006T205412Z
URL:https://www.arabamerica.com/events/gaza-is-the-compass-picnic-fundrais
 er-for-gaza-3/
SUMMARY:Gaza is the Compass: Picnic Fundraiser for Gaza
DESCRIPTION:ARLINGTON\, VA\n\n\nGaza is the Compass: Picnic Fundraiser for 
 Gaza\nJoin PYM DMV for our annual commemoration of the olive and citrus ha
 rvest season in Palestine. This year\, our picnic program is guided by "Ga
 za Is The Compass." As Palestinians and Arabs in the diaspora\, we stand f
 irm in our convictions for a free Falasteen\, and reflect on our role in t
 he ongoing struggle for the liberation of our homeland. This gathering ser
 ves to support the steadfastness of our people in Gaza and honor the marty
 rs we have lost\, while strengthening intergenerational ties and preservin
 g our history and cultural traditions.\n\nThis picnic fundraiser will be a
  day full of family activities\, local vendors\, raffles and more! To supp
 ort the steadfastness of our people in Gaza\, proceeds from this picnic wi
 ll support Middle East Children’s Alliance (MECA)\, a non-profit that ha
 s been on the ground providing resources and critical aid to Palestinians 
 in Gaza.\n\nFree entry for kids under 6!
ATTACH;FMTTYPE=image/jpeg:https://www.arabamerica.com/wp-content/uploads/2
 025/10/https-cdn.evbuc_.com-images-1127669593-687366114993-1-original.2025
 0918-002018-1.jpeg
LOCATION:Barcroft Park\, 4200 South Four Mile Run Drive\,  Arlington \, VA\
 , 22206\, United States
GEO:38.849343;-77.099826
X-APPLE-STRUCTURED-LOCATION;VALUE=URI;X-ADDRESS=4200 South Four Mile Run Dr
 ive\,  Arlington \, VA\, 22206\, United States;X-APPLE-RADIUS=100;X-TITLE=
 Barcroft Park:geo:38.849343,-77.099826
END:VEVENT
BEGIN:VTIMEZONE
TZID:America/Detroit
X-LIC-LOCATION:America/Detroit
BEGIN:DAYLIGHT
DTSTART:20250309T030000
TZOFFSETFROM:-0500
TZOFFSETTO:-0400
TZNAME:EDT
END:DAYLIGHT
END:VTIMEZONE
END:VCALENDAR