BEGIN:VCALENDAR
VERSION:2.0
PRODID:-//wp-events-plugin.com//7.2.3.1//EN
TZID:America/Detroit
X-WR-TIMEZONE:America/Detroit
BEGIN:VEVENT
UID:34646@arabamerica.com
DTSTART;TZID=America/Detroit:20250626T190000
DTEND;TZID=America/Detroit:20250626T220000
DTSTAMP:20250624T161103Z
URL:https://www.arabamerica.com/events/gaza-journalists-under-fire/
SUMMARY:GAZA Journalists Under Fire
DESCRIPTION:LOS ANGELES\, CA\n\n&#x1f6a8\; LOS ANGELES! Join us June 26 for
  a special screening of Gaza: Journalists Under Fire - a searing doc on tr
 uth\, war &amp\; justice.\nStay after for a convo w/ director Robert Green
 wald &amp\; @TheYoungTurks’ Cenk Uygur.\n&#x1f39f\; FREE TICKETS through
  link in bio!
ATTACH;FMTTYPE=image/jpeg:https://www.arabamerica.com/wp-content/uploads/2
 025/06/Screenshot-2025-06-24-at-7.06.18 PM.png
LOCATION:Jackson Market\, 4065 Jackson Ave\, Culver City\, California\, Uni
 ted States
GEO:34.017194;-118.397246
X-APPLE-STRUCTURED-LOCATION;VALUE=URI;X-ADDRESS=4065 Jackson Ave\, Culver C
 ity\, California\, United States;X-APPLE-RADIUS=100;X-TITLE=Jackson Market
 :geo:34.017194,-118.397246
END:VEVENT
BEGIN:VTIMEZONE
TZID:America/Detroit
X-LIC-LOCATION:America/Detroit
BEGIN:DAYLIGHT
DTSTART:20250309T030000
TZOFFSETFROM:-0500
TZOFFSETTO:-0400
TZNAME:EDT
END:DAYLIGHT
END:VTIMEZONE
END:VCALENDAR