BEGIN:VCALENDAR
VERSION:2.0
PRODID:-//wp-events-plugin.com//7.2.3.1//EN
TZID:America/Detroit
X-WR-TIMEZONE:America/Detroit
BEGIN:VEVENT
UID:32803@arabamerica.com
DTSTART;TZID=America/Detroit:20240509T183000
DTEND;TZID=America/Detroit:20240509T210000
DTSTAMP:20240507T142822Z
URL:https://www.arabamerica.com/events/gaza-surf-club-film-screening-2/
SUMMARY:Gaza Surf Club - Film Screening
DESCRIPTION:Gaza Surf Club - Film Screening\n\nCome join us for a special e
 vening at The Hill Street Country Club in collaboration with local nonpr
 ofit Queer Surf\, as we screen the inspiring documentary Gaza Surf Club. 
 Witness the incredible story of surfers in Gaza who find freedom and joy a
 mid conflict. The film will start at 7 pm on May 9th. Doors will open a
 t 6:30PM.Don't miss this opportunity to be moved by the resilience and pas
 sion of these surfers. See you there!\n\nFood &amp\; Drink:\n\nWe will hav
 e drinks to purchase inside. We will have food on-site to purchase from a 
 local Palestinian food vendor.\n\nAbout The Hill Street Country Club:\n\nT
 he Hill Street Country Club seeks to create an inclusive\, diverse art cul
 ture for the socioeconomic landscape of North County San Diego. We strive 
 to provide an art outlet for our community.\n\nOur building is wheelchair 
 accessible with everything you need on one level. We have one gender-neutr
 al\, single occupancy\, ADA-compliant bathroom. Please be mindful of the l
 ine behind you when using the bathroom. Service animals are permitted but 
 please leave pets at home. To keep our gathering as safe as possible\, we 
 will have masks and hand sanitizer freely available.\n\nHouse Rules:\n\nKe
 ep it Cute! If you see something that concerns you during our event\, ple
 ase contact staff immediately. The Hill Street Country Club is a respectfu
 l community space and will not tolerate hate speech\, harassment\, violenc
 e\, or intimidation of any kind. Respect our participants and our space by
  not vandalizing or tagging our restrooms\, building interior\, exterior\,
  or any of the surrounding areas.\n\nAccessibility Our building is wheelc
 hair accessible with everything you need on one level. We have one gender-
 neutral\, single occupancy\, ADA-compliant bathroom. Please be mindful of 
 the line behind you when using the bathroom. Service animals are permitted
  but please leave pets at home.\n\nIf you have other concerns\, please con
 tact us asap so we can accommodate you.\n\nAbout Queer Surf:\n\nQueer Surf
  is a California-based community organization aimed at making the ocean mo
 re accessible through knowledge sharing and skill building. Founded in 201
 5 by former professional surfer Kyla Langen and insatiable boogie boarder/
 mental health professional Nic Brise\, Queer Surf reduces barriers and hel
 ps the LGBTQ+ community navigate all aspects of ocean recreation. Through 
 a host of programs and events including lessons\, clinics\, camps\, meet-u
 ps\, tide-pooling\, kayaking\, book clubs\, and more\, Queer Surf builds c
 ommunity and fosters a safer space for nonbinary\, trans\, and queer peopl
 e at the coast.\n\nQueer Surf Mission\n\n 	Increase equitable access by bu
 ilding an LGBTQ+ presence &amp\; a culture of belonging.\n 	Support queer 
 mental\, physical + social health through a relationship with the ocean.\n
  	Connect queers to their bodies\, ocean ecology\, and an inclusive surf c
 ommunity.\n 	Expand surf culture by advocating for distributed surf resour
 ces.\n
ATTACH;FMTTYPE=image/jpeg:https://www.arabamerica.com/wp-content/uploads/2
 024/05/Screenshot-2024-05-07-072104.png
LOCATION:The Hill Street Country Club\, 530 S. Coast Highway \, Oceanside\,
  California\, 92054\, United States
GEO:33.189952;-117.374086
X-APPLE-STRUCTURED-LOCATION;VALUE=URI;X-ADDRESS=530 S. Coast Highway \, Oce
 anside\, California\, 92054\, United States;X-APPLE-RADIUS=100;X-TITLE=The
  Hill Street Country Club:geo:33.189952,-117.374086
END:VEVENT
BEGIN:VTIMEZONE
TZID:America/Detroit
X-LIC-LOCATION:America/Detroit
BEGIN:DAYLIGHT
DTSTART:20240310T030000
TZOFFSETFROM:-0500
TZOFFSETTO:-0400
TZNAME:EDT
END:DAYLIGHT
END:VTIMEZONE
END:VCALENDAR