BEGIN:VCALENDAR
VERSION:2.0
PRODID:-//wp-events-plugin.com//7.2.3.1//EN
TZID:America/Detroit
X-WR-TIMEZONE:America/Detroit
BEGIN:VEVENT
UID:35786@arabamerica.com
DTSTART;TZID=America/Detroit:20260212T190000
DTEND;TZID=America/Detroit:20260212T200000
DTSTAMP:20260131T193712Z
URL:https://www.arabamerica.com/events/gaza-the-dream-and-the-nightmare-wi
 th-julie-m-norman/
SUMMARY:Gaza: The Dream and the Nightmare - with Julie M. Norman
DESCRIPTION:Join us for an evening with Julie M. Norman\, author of the bo
 ok Gaza: The Dream and the Nightmare. In this urgent and compelling book\
 , Julie M. Norman and Maia Carter Hallward tell the story of Gaza from its
  early foundations\, across decades of occupation\, to the devastation of 
 the ongoing war.
ATTACH;FMTTYPE=image/jpeg:https://www.arabamerica.com/wp-content/uploads/2
 026/01/image-11-1.webp
CATEGORIES:Book Discussion,Book
 Talk,Books,Books/Literature,Israel-Palestine Conflict,Israeli occupation
LOCATION:United Parish in Brookline - Willett Hall\, 15 Marion St  \, Brook
 line\, MA\, 02446\, United States
GEO:42.340182;-71.121555
X-APPLE-STRUCTURED-LOCATION;VALUE=URI;X-ADDRESS=15 Marion St  \, Brookline\
 , MA\, 02446\, United States;X-APPLE-RADIUS=100;X-TITLE=United Parish in B
 rookline - Willett Hall:geo:42.340182,-71.121555
END:VEVENT
BEGIN:VTIMEZONE
TZID:America/Detroit
X-LIC-LOCATION:America/Detroit
BEGIN:STANDARD
DTSTART:20251102T010000
TZOFFSETFROM:-0400
TZOFFSETTO:-0500
TZNAME:EST
END:STANDARD
END:VTIMEZONE
END:VCALENDAR