BEGIN:VCALENDAR
VERSION:2.0
PRODID:-//wp-events-plugin.com//7.2.3.1//EN
TZID:America/Detroit
X-WR-TIMEZONE:America/Detroit
BEGIN:VEVENT
UID:34671@arabamerica.com
DTSTART;TZID=America/Detroit:20250630T180000
DTEND;TZID=America/Detroit:20250630T210000
DTSTAMP:20250625T034238Z
URL:https://www.arabamerica.com/events/gaza-through-my-lens-with-motaz-aza
 iza-6/
SUMMARY:Gaza Through My Lens with Motaz Azaiza
DESCRIPTION:\n\nGaza Through My Lens Fundraising and Speaking Tour with Mot
 az Azaiza\n\n\n\n\n\nSan Francisco\, California Bay Area – Monday\, June
  30\, 2025\nDoors open at 6 pm\nEvent runs from 7 to 9 pm\n***For security
 \, only general event location will be made public\; specific venue detail
 s will be shared privately with verified registrants close to the event's 
 date.\nAll funds raised through this tour will support refugee relief in G
 aza.\nThe people of Gaza are enduring the worst humanitarian crisis of our
  era and in Palestinian history. Nearly all 2 million people have been dis
 placed\, with many now forced into starvation. Your involvement through UN
 RWA USA can help provide life-saving relief. Join us this June for a five-
 city speaking tour with Motaz Azaiza\, the Palestinian photojournalist who
  risked his life to bring Gaza's truth to the rest of the world. Hosted by
  UNRWA USA\, this tour aims to raise greater American awareness and at lea
 st $1 million in refugee relief.\nWhy attend?\n\n\n 	\nHear firsthand abou
 t Gaza through Motaz's personal lens\n\n 	\nSave refugee lives: Your fundr
 aising will directly fund UNRWA’s life-saving programs for displaced fam
 ilies in the Gaza Strip\n\n\nFundraise and get rewarded:\n\n\n 	\nRaise $1
 00+ for an official tour shirt\n\n 	\nRaise $500+ for a Gaza sweatshirt de
 signed by @aya.mobaydeen\n\n 	\nRaise $1\,000+ for an invite to a brief\, 
 private meet and greet with Motaz\n\n\nGet Involved! Start a fundraiser an
 d collect donations to support refugee relief through UNRWA USA.\n*Top fun
 draisers may be invited to a private photo opportunity with Motaz\, offere
 d in deep respect for his time\, energy\, and lived experience as a surviv
 or.\n\n\n 	Posted In: Gaza Through My Lens with Motaz Azaiza\n 	Tagged: 
 Gaza Through My Lens with Motaz Azaiza\, Gaza Through My Lens\, Motaz Az
 aiza\n\n\n
ATTACH;FMTTYPE=image/jpeg:https://www.arabamerica.com/wp-content/uploads/2
 025/06/Screen-Shot-2025-06-24-at-11.41.46-PM.png
END:VEVENT
BEGIN:VTIMEZONE
TZID:America/Detroit
X-LIC-LOCATION:America/Detroit
BEGIN:DAYLIGHT
DTSTART:20250309T030000
TZOFFSETFROM:-0500
TZOFFSETTO:-0400
TZNAME:EDT
END:DAYLIGHT
END:VTIMEZONE
END:VCALENDAR