BEGIN:VCALENDAR
VERSION:2.0
PRODID:-//wp-events-plugin.com//7.2.3.1//EN
TZID:America/Detroit
X-WR-TIMEZONE:America/Detroit
BEGIN:VEVENT
UID:33265@arabamerica.com
DTSTART;TZID=America/Detroit:20240727T090000
DTEND;TZID=America/Detroit:20240727T110000
DTSTAMP:20240724T221023Z
URL:https://www.arabamerica.com/events/general-dynamics-protest/
SUMMARY:General Dynamics Protest
DESCRIPTION:BATH\, ME\nProtest at Bath Iron Works (BIW)\nNew destroyer 'chr
 istening' ceremony\n\n\n 	Saturday\, July 27\, 2024\n 	9:00 AM  11:00 AM
 \n\n\n 	Bath Iron Works700 Washington StreetBath\, ME\, 04530United States
  (map)\n\n\n 	Google Calendar  ICS\n
ATTACH;FMTTYPE=image/jpeg:https://www.arabamerica.com/wp-content/uploads/2
 024/07/Screenshot-2024-07-24-150711.png
LOCATION:Bath Iron Works\, 700 Washington Street\, Bath\, ME\, 04530\, Unit
 ed States
GEO:43.909196;-69.816225
X-APPLE-STRUCTURED-LOCATION;VALUE=URI;X-ADDRESS=700 Washington Street\, Bat
 h\, ME\, 04530\, United States;X-APPLE-RADIUS=100;X-TITLE=Bath Iron Works:
 geo:43.909196,-69.816225
END:VEVENT
BEGIN:VTIMEZONE
TZID:America/Detroit
X-LIC-LOCATION:America/Detroit
BEGIN:DAYLIGHT
DTSTART:20240310T030000
TZOFFSETFROM:-0500
TZOFFSETTO:-0400
TZNAME:EDT
END:DAYLIGHT
END:VTIMEZONE
END:VCALENDAR