BEGIN:VCALENDAR
VERSION:2.0
PRODID:-//wp-events-plugin.com//7.2.3.1//EN
TZID:America/Detroit
X-WR-TIMEZONE:America/Detroit
BEGIN:VEVENT
UID:35648@arabamerica.com
DTSTART;TZID=America/New_York:20260423T160000
DTEND;TZID=America/New_York:20260423T170000
DTSTAMP:20251231T041058Z
URL:https://www.arabamerica.com/events/genocide-awareness-month-series-sud
 an-and-ethiopia-2/
SUMMARY:Genocide Awareness Month Series: Sudan and Ethiopia
DESCRIPTION:WASHINGTON\, DC\n\n&nbsp\;\n\nOverview\n\n\n\n\n\nJoin us for a
  series of events focusing on raising awareness about the genocides in Sud
 an and Ethiopia this month!\n\n\n\n\nGenocide Awareness Month Series: Suda
 n and Ethiopia\n\nCome join us for a powerful event shedding light on the 
 genocides in Sudan and Ethiopia. Learn about the history\, impact\, and on
 going struggles faced by these communities. This in-person event will take
  place at the SIS Founders Room. Don't miss this opportunity to educate y
 ourself and engage in meaningful discussions surrounding these important i
 ssues.\n\n\n\n\n\n
ATTACH;FMTTYPE=image/jpeg:https://www.arabamerica.com/wp-content/uploads/2
 024/08/Sudanese_Children_Sudanese_Hope.jpg
LOCATION:SIS Founders Room\, 4400 Massachusetts Avenue Northwest\, Washingt
 on \, DC\, 20016\, United States
GEO:38.935893;-77.090812
X-APPLE-STRUCTURED-LOCATION;VALUE=URI;X-ADDRESS=4400 Massachusetts Avenue N
 orthwest\, Washington \, DC\, 20016\, United States;X-APPLE-RADIUS=100;X-T
 ITLE=SIS Founders Room:geo:38.935893,-77.090812
END:VEVENT
BEGIN:VTIMEZONE
TZID:America/New_York
X-LIC-LOCATION:America/New_York
BEGIN:DAYLIGHT
DTSTART:20260308T030000
TZOFFSETFROM:-0500
TZOFFSETTO:-0400
TZNAME:EDT
END:DAYLIGHT
END:VTIMEZONE
END:VCALENDAR