BEGIN:VCALENDAR
VERSION:2.0
PRODID:-//wp-events-plugin.com//7.2.3.1//EN
TZID:America/Detroit
X-WR-TIMEZONE:America/Detroit
BEGIN:VEVENT
UID:32352@arabamerica.com
DTSTART;TZID=America/Detroit:20240417T160000
DTEND;TZID=America/Detroit:20240417T170000
DTSTAMP:20240228T195728Z
URL:https://www.arabamerica.com/events/global-reactions-to-the-partition-o
 f-palestine-and-the-1948-war-2024-max-ticktin-memorial-lecture/
SUMMARY:Global Reactions to the Partition of Palestine and the 1948 War | 2
 024 Max Ticktin Memorial Lecture
DESCRIPTION:DC.\n\n\nPlease register to attend this year’s Max Ticktin Me
 morial Lecture\, delivered by Prof. Derek Penslar\, who will speak about h
 is new research project\, Global Reactions to the Partition of Palestine a
 nd the 1948 War.\n\nThis year’s lecture is scheduled for Tuesday\, Apri
 l 17\, 2024\, at 4 pm and will take place in the Teamsters Hall\, Room 70
 2\, on the 7th floor of Gelman Library\, 2130 H Street NW\, Washington DC
 \, 20052.\n\nGuests who are not affiliated with GWU should register no lat
 er than April 14 to ensure access to Gelman Library.\n\nLaunched in 2017\,
  the annual lecture is named after Rabbi and Professor Max Ticktin include
 d former ambassador Daniel C. Kurtzer\, Prof. Max Waxman\, Prof. Mira Such
 arov\, the novelist Ruby Namdar\, and Prof. Shaul Magid.\n\n\n\nSpeaker\n\
 n\n 	\nProf. Derek J. Penslar is the William Lee Frost Professor of Jewis
 h History and the Director of the Center for Jewish Studies at Harvard Uni
 versity. His books include Jews and the Military: A History (2013)\, Theod
 or Herzl: The Charismatic Leader (2020\; German ed. 2022)\; and Zionism: A
 n Emotional State (2023). He is currently writing a book titled The War fo
 r Palestine\, 1947-1949: A Global History. He is a past president of the A
 merican Society for Jewish Research\, a fellow of the Royal Society of Can
 ada\, and an Honorary Fellow of St. Anne’s College\, Oxford.\n\n\n
ATTACH;FMTTYPE=image/jpeg:https://www.arabamerica.com/wp-content/uploads/2
 024/02/Ticktin-Lecture-2024-Poster-scaled-aspect-ratio-1090-610.webp
CATEGORIES:Discussion,Lecture
LOCATION:Gelman Library\, 2130 H Street\, NW\, Washington\, DC\, 20052\, Un
 ited States
GEO:38.8992047;-77.04840159999998
X-APPLE-STRUCTURED-LOCATION;VALUE=URI;X-ADDRESS=2130 H Street\, NW\, Washin
 gton\, DC\, 20052\, United States;X-APPLE-RADIUS=100;X-TITLE=Gelman Librar
 y:geo:38.8992047,-77.04840159999998
END:VEVENT
BEGIN:VTIMEZONE
TZID:America/Detroit
X-LIC-LOCATION:America/Detroit
BEGIN:DAYLIGHT
DTSTART:20240310T030000
TZOFFSETFROM:-0500
TZOFFSETTO:-0400
TZNAME:EDT
END:DAYLIGHT
END:VTIMEZONE
END:VCALENDAR