BEGIN:VCALENDAR
VERSION:2.0
PRODID:-//wp-events-plugin.com//7.2.3.1//EN
TZID:America/Detroit
X-WR-TIMEZONE:America/Detroit
BEGIN:VEVENT
UID:32911@arabamerica.com
DTSTART;TZID=America/Detroit:20240601T120000
DTEND;TZID=America/Detroit:20240601T140000
DTSTAMP:20240529T102631Z
URL:https://www.arabamerica.com/events/gluten-free-lunch-serving-authentic
 -lebanese-cuisine-at-tanoor-seattle/
SUMMARY:Gluten Free Lunch Serving Authentic Lebanese Cuisine at Tanoor (Sea
 ttle)
DESCRIPTION:SEATTLE\, WA\n\nJoin us for a Gluten Free Lunch at Tanoor in S
 eattle! A variety of authentic Lebanese cuisine providing gluten-free opti
 ons for our group offering vegetarian\, vegan and meat dishes awaits at th
 e Tanoor Seattle (south Lake Union) location. Indulge in a variety of fla
 vorful dishes that will be crafted with care and dairy free options are al
 so available. Space is limited\; RSVP only if you plan to attend this in-p
 erson event. http://www.tanoor.com
ATTACH;FMTTYPE=image/jpeg:https://www.arabamerica.com/wp-content/uploads/2
 024/05/Screenshot-2024-05-29-031831.png
LOCATION:tanoor Seattle\, 803 Dexter Avenue North Seattle\, Seattle\, WA\, 
 98109\, United States
GEO:47.626923;-122.342588
X-APPLE-STRUCTURED-LOCATION;VALUE=URI;X-ADDRESS=803 Dexter Avenue North Sea
 ttle\, Seattle\, WA\, 98109\, United States;X-APPLE-RADIUS=100;X-TITLE=tan
 oor Seattle:geo:47.626923,-122.342588
END:VEVENT
BEGIN:VTIMEZONE
TZID:America/Detroit
X-LIC-LOCATION:America/Detroit
BEGIN:DAYLIGHT
DTSTART:20240310T030000
TZOFFSETFROM:-0500
TZOFFSETTO:-0400
TZNAME:EDT
END:DAYLIGHT
END:VTIMEZONE
END:VCALENDAR