BEGIN:VCALENDAR
VERSION:2.0
PRODID:-//wp-events-plugin.com//7.2.3.1//EN
TZID:America/Detroit
X-WR-TIMEZONE:America/Detroit
BEGIN:VEVENT
UID:34501@arabamerica.com
DTSTART;TZID=America/Detroit:20250605T110000
DTEND;TZID=America/Detroit:20250605T210000
DTSTAMP:20250602T202211Z
URL:https://www.arabamerica.com/events/grand-chaand-raat-eid-ul-adha-bazaa
 r/
SUMMARY:Grand Chaand Raat & Eid Ul Adha Bazaar
DESCRIPTION:PRINCETON\, NJ\n\n\nYou're Invited! Join us for a Grand Chaand 
 Raat Celebration &amp\; Eid ul Adha Bazaar An evening of joy\, shopping\, 
 delicious food\, henna\,Nasheed\n\n\n\n\n\n\n\n\n\nFood\, decor\, henna\, 
 clothing\, jewelry\, Photo Booth\, live performances!\n\n\n\n\n\n
ATTACH;FMTTYPE=image/jpeg:https://www.arabamerica.com/wp-content/uploads/2
 025/06/Screenshot-2025-06-02-at-4.23.23 PM.png
LOCATION:DoubleTree by Hilton Hotel Princeton\, 4355 U.S. 1 \, Princeton\, 
 NJ\, 08540\, United States
GEO:40.366493;-74.597516
X-APPLE-STRUCTURED-LOCATION;VALUE=URI;X-ADDRESS=4355 U.S. 1 \, Princeton\, 
 NJ\, 08540\, United States;X-APPLE-RADIUS=100;X-TITLE=DoubleTree by Hilton
  Hotel Princeton:geo:40.366493,-74.597516
END:VEVENT
BEGIN:VTIMEZONE
TZID:America/Detroit
X-LIC-LOCATION:America/Detroit
BEGIN:DAYLIGHT
DTSTART:20250309T030000
TZOFFSETFROM:-0500
TZOFFSETTO:-0400
TZNAME:EDT
END:DAYLIGHT
END:VTIMEZONE
END:VCALENDAR