BEGIN:VCALENDAR
VERSION:2.0
PRODID:-//wp-events-plugin.com//7.2.3.1//EN
TZID:America/Detroit
X-WR-TIMEZONE:America/Detroit
BEGIN:VEVENT
UID:33936@arabamerica.com
DTSTART;TZID=America/Detroit:20250222T110000
DTEND;TZID=America/Detroit:20250222T210000
DTSTAMP:20250113T050629Z
URL:https://www.arabamerica.com/events/grand-pre-ramadan-eid-bazaar/
SUMMARY:Grand Pre Ramadan & Eid Bazaar
DESCRIPTION:PRINCETON\, NJ\n\nWelcome to the Grand Pre Ramadan &amp\; Eid 
 Bazaar! Get ready for a day filled with shopping\, food\, and fun at the b
 eautiful Princeton Marriott at Forrestal. Join us for a festive event fea
 turing a variety of vendors offering unique items perfect for Ramadan and 
 Eid celebrations. Whether you're looking for gifts\, clothing\, home decor
 \, or delicious treats\, you'll find it all here. Don't miss out on this s
 pecial opportunity to shop for all your holiday needs in one convenient lo
 cation. We can't wait to see you there!\n\nLive Ramadan themed workshops f
 or kids &amp\; adults .\n\nRamadan Story time with renown kids authors .
ATTACH;FMTTYPE=image/jpeg:https://www.arabamerica.com/wp-content/uploads/2
 025/01/6D96F878-CAC3-431E-9B32-A0728915B540.jpeg
CATEGORIES:#arabic,Eid Community Event
LOCATION:Princeton Marriott at Forrestal\, 100 College Road East \, Princet
 on\,  NJ \, 08540\, United States
GEO:40.355269;-74.599057
X-APPLE-STRUCTURED-LOCATION;VALUE=URI;X-ADDRESS=100 College Road East \, Pr
 inceton\,  NJ \, 08540\, United States;X-APPLE-RADIUS=100;X-TITLE=Princeto
 n Marriott at Forrestal:geo:40.355269,-74.599057
END:VEVENT
BEGIN:VTIMEZONE
TZID:America/Detroit
X-LIC-LOCATION:America/Detroit
BEGIN:STANDARD
DTSTART:20241103T010000
TZOFFSETFROM:-0400
TZOFFSETTO:-0500
TZNAME:EST
END:STANDARD
END:VTIMEZONE
END:VCALENDAR