BEGIN:VCALENDAR
VERSION:2.0
PRODID:-//wp-events-plugin.com//7.2.3.1//EN
TZID:America/Detroit
X-WR-TIMEZONE:America/Detroit
BEGIN:VEVENT
UID:35378@arabamerica.com
DTSTART;TZID=America/Detroit:20251108T160000
DTEND;TZID=America/Detroit:20251108T190000
DTSTAMP:20251105T121701Z
URL:https://www.arabamerica.com/events/gratitude-for-gaza-community-potluc
 k/
SUMMARY:Gratitude for Gaza: Community Potluck
DESCRIPTION:CHATSWORTH\, CA
ATTACH;FMTTYPE=image/jpeg:https://www.arabamerica.com/wp-content/uploads/2
 025/11/PHOTO-2025-11-03-14-01-29.jpg
LOCATION:Chatsworth United Methodist Church\, 10824 CA-27\, Chatsworth\, CA
 \, 91311\, United States
GEO:34.266652;-118.605469
X-APPLE-STRUCTURED-LOCATION;VALUE=URI;X-ADDRESS=10824 CA-27\, Chatsworth\, 
 CA\, 91311\, United States;X-APPLE-RADIUS=100;X-TITLE=Chatsworth United Me
 thodist Church:geo:34.266652,-118.605469
END:VEVENT
BEGIN:VTIMEZONE
TZID:America/Detroit
X-LIC-LOCATION:America/Detroit
BEGIN:STANDARD
DTSTART:20251102T010000
TZOFFSETFROM:-0400
TZOFFSETTO:-0500
TZNAME:EST
END:STANDARD
END:VTIMEZONE
END:VCALENDAR