BEGIN:VCALENDAR
VERSION:2.0
PRODID:-//wp-events-plugin.com//7.2.3.1//EN
TZID:America/Detroit
X-WR-TIMEZONE:America/Detroit
BEGIN:VEVENT
UID:33660@arabamerica.com
DTSTART;TZID=America/Detroit:20241022T180000
DTEND;TZID=America/Detroit:20241022T200000
DTSTAMP:20241016T002738Z
URL:https://www.arabamerica.com/events/grossmont-arabic-live-music-%d8%ad%
 d9%81%d9%84%d8%a9-%d9%85%d8%b3%d8%b1%d8%ad-%d9%83%d8%b1%d9%88%d8%b3%d9%85%
 d9%88%d9%86%d8%aa-%d9%84%d9%84%d9%85%d9%88%d8%b3%d9%8a%d9%82%d9%89-%d8%a7%
 d9%84%d8%b9/
SUMMARY:Grossmont Arabic Live Music - حفلة مسرح كروسمونت ل
 لموسيقى العربية
DESCRIPTION:Come and join us at the Grossmont Arabic Music Concert!\n\nDate
 : Tue Oct 22 2024\n\nTime: 6:00-8:00 PM (Pacific Daylight Time)\n\nLocatio
 n: Grossmont College\, PVAC\n\nJoin us for this special event where we wil
 l be enjoying an amazing live Arabic music performance. It will be an exci
 ting and fun night where you will be able to listen to the wonderful Arabi
 c tunes and enjoy the performance of talented artists.\n\nDon’t miss the
  opportunity to attend this wonderful event and enjoy an unforgettable mus
 ical evening. Bring your friends and family and get ready to enjoy an unfo
 rgettable atmosphere!
ATTACH;FMTTYPE=image/jpeg:https://www.arabamerica.com/wp-content/uploads/2
 024/10/Screen-Shot-2024-10-15-at-7.28.56-PM.png
CATEGORIES:#arabic,Arab,Arab Ameircan Event,Arab
 American,Community,culture,Discussion,Food,Lecture,Music/Folk/World
LOCATION:Grossmont College\, 8800 Grossmont College Drive\, El Cajon\, Cali
 fornia\, 92020\, United States
GEO:32.816495;-117.006305
X-APPLE-STRUCTURED-LOCATION;VALUE=URI;X-ADDRESS=8800 Grossmont College Driv
 e\, El Cajon\, California\, 92020\, United States;X-APPLE-RADIUS=100;X-TIT
 LE=Grossmont College:geo:32.816495,-117.006305
END:VEVENT
BEGIN:VTIMEZONE
TZID:America/Detroit
X-LIC-LOCATION:America/Detroit
BEGIN:DAYLIGHT
DTSTART:20240310T030000
TZOFFSETFROM:-0500
TZOFFSETTO:-0400
TZNAME:EDT
END:DAYLIGHT
END:VTIMEZONE
END:VCALENDAR