BEGIN:VCALENDAR
VERSION:2.0
PRODID:-//wp-events-plugin.com//7.2.3.1//EN
TZID:America/Detroit
X-WR-TIMEZONE:America/Detroit
BEGIN:VEVENT
UID:31014@arabamerica.com
DTSTART;TZID=America/Detroit:20230520T193000
DTEND;TZID=America/Detroit:20230520T210000
DTSTAMP:20230510T180050Z
URL:https://www.arabamerica.com/events/grossmont-college-middle-east-ensem
 ble/
SUMMARY:Grossmont College Middle East Ensemble
DESCRIPTION:San Diego\, CA\nThe Grossmont College Middle East Ensemble is o
 pen to all instruments with players from both the college and the communit
 y specializing in music from the vast Afro-Asiatic region known these days
  as the "Middle East."\n\n&nbsp\;
ATTACH;FMTTYPE=image/jpeg:https://www.arabamerica.com/wp-content/uploads/2
 023/05/Screen-Shot-2023-05-10-at-1.57.48-PM.png
CATEGORIES:Ensemble
LOCATION:First Unitarian Universalist Church of San Diego - Hillcrest\, 298
  West Arbor Drive\, San Diego\, CA\, 92103\, United States
GEO:32.753776;-117.166192
X-APPLE-STRUCTURED-LOCATION;VALUE=URI;X-ADDRESS=298 West Arbor Drive\, San 
 Diego\, CA\, 92103\, United States;X-APPLE-RADIUS=100;X-TITLE=First Unitar
 ian Universalist Church of San Diego - Hillcrest:geo:32.753776,-117.166192
END:VEVENT
BEGIN:VTIMEZONE
TZID:America/Detroit
X-LIC-LOCATION:America/Detroit
BEGIN:DAYLIGHT
DTSTART:20230312T030000
TZOFFSETFROM:-0500
TZOFFSETTO:-0400
TZNAME:EDT
END:DAYLIGHT
END:VTIMEZONE
END:VCALENDAR