BEGIN:VCALENDAR
VERSION:2.0
PRODID:-//wp-events-plugin.com//7.2.3.1//EN
TZID:America/Detroit
X-WR-TIMEZONE:America/Detroit
BEGIN:VEVENT
UID:34496@arabamerica.com
DTSTART;TZID=America/Detroit:20250608T190000
DTEND;TZID=America/Detroit:20250608T190000
DTSTAMP:20250602T200920Z
URL:https://www.arabamerica.com/events/habib-qaderi-live-eid-concert/
SUMMARY:Habib Qaderi Live Eid Concert
DESCRIPTION:JACKSONVILLE\, FL\n\n18+\, or under 18 with parent/guardian\n\n
 &#x1f3a4\;Habib Qaderi Live – Eid Concert Celebration\n\nHosted by: Afgh
 an-American Community Center of North Florida (AACC-NF)\n\nCome celebrate 
 Eid with a special live performance by the legendary Habib Qaderi!\n\nEnjo
 y a joyful evening filled with music\, culture\, and community. Bring your
  friends and family for a night to remember!\n\n&#x1f4cd\;Location: Kernan
  Hall\n\n4650 Kernan Blvd S\, Jacksonville\, FL 32224\n\n&#x1f31f\; The ve
 nue will be beautifully set up banquet-style with round tables and chairs 
 for a comfortable and festive experience.\n\n&#x1f5d3\;&#xfe0f\;Date: June
  8th 2025\n\n&#x1f555\;Time:\n\nDoors Open: 6:00 PM\n\nShow Starts: 7:00 P
 M\n\n&#x1f37d\;&#xfe0f\; Food &amp\; Refreshments:\n\n 	Complimentary Tea 
 and sweets will be provided\n 	Delicious Afghan cuisine available for purc
 hase from local food trucks on-site\n\n&#x1f457\;Attire:\n\nFestive or Cul
 tural Attire Encouraged\n\nDress to celebrate in your traditional or semi-
 formal best!
ATTACH;FMTTYPE=image/jpeg:https://www.arabamerica.com/wp-content/uploads/2
 025/06/Screenshot-2025-06-02-at-4.09.49 PM.png
LOCATION:Kernan Hall\, 4650 Kernan Blvd\, Jacksonville\, FL\, 32224\, Unite
 d States
GEO:30.267405;-81.496179
X-APPLE-STRUCTURED-LOCATION;VALUE=URI;X-ADDRESS=4650 Kernan Blvd\, Jacksonv
 ille\, FL\, 32224\, United States;X-APPLE-RADIUS=100;X-TITLE=Kernan Hall:g
 eo:30.267405,-81.496179
END:VEVENT
BEGIN:VTIMEZONE
TZID:America/Detroit
X-LIC-LOCATION:America/Detroit
BEGIN:DAYLIGHT
DTSTART:20250309T030000
TZOFFSETFROM:-0500
TZOFFSETTO:-0400
TZNAME:EDT
END:DAYLIGHT
END:VTIMEZONE
END:VCALENDAR