BEGIN:VCALENDAR
VERSION:2.0
PRODID:-//wp-events-plugin.com//7.2.3.1//EN
TZID:America/Detroit
X-WR-TIMEZONE:America/Detroit
BEGIN:VEVENT
UID:34689@arabamerica.com
DTSTART;TZID=America/Detroit:20250718T230000
DTEND;TZID=America/Detroit:20250719T040000
DTSTAMP:20250702T133925Z
URL:https://www.arabamerica.com/events/habibi-afterdark-nyc-edition-melros
 e-ballroom-july-18th/
SUMMARY:Habibi Afterdark – NYC Edition @Melrose Ballroom July 18th
DESCRIPTION:NEW YORK\, NY\n\n\n\n\n\n\n\n\n\n\n&#x2728\; YALLA HABIBI NYC 
 – HABIBI AFTER DARK | NYC &#x2764\;&#xfe0f\; EDITION &#x2728\;\n\nThe ci
 ty that never sleeps… is about to feel a heartbeat louder than ever.\n\n
 After a SOLD-OUT banger in LA and an unforgettable\, jam-packed night in N
 YC with 400 inside and 700 on the waitlist\, Yalla Habibi is bringing the 
 true magic back to the Big Apple.\n\n&#x1f525\; Friday\, July 18&#x1f4cd\;
  Melrose Ballroom | 11 PM – 4 AM\n\nStep into Habibi After Dark\, where 
 fireworks of music and energy light up the night sky like the Empire State
  itself.\n\n&#x1f3b6\; Expect the unexpected:\n\n&nbsp\;\n&#x1f334\; The V
 enue – Melrose Ballroom\nMelrose Ballroom isn’t just a venue—it’s 
 a stage for drama\, elegance\, and pure Middle Eastern joy. From the state
 -of-the-art sound to the vibrant lights\, every moment will feel cinematic
 .\n\n&nbsp\;\n&#x1f483\; Dress to Impress\nThis is not your average night 
 out—so bring your A-game! Channel your inner superstar and come dressed 
 in your most stylish outfits. Think elegant\, bold\, and sexy—after all\
 , this is Yalla Papi\, and we’re here to turn heads!\n\n&nbsp\;\n&#x1f3a
 7\; Music Lineup – The Best Arabic DJs in the U.S.\nWe’re bringing in 
 the hottest Middle Eastern DJs from across the country\, each known for th
 eir ability to turn up the energy and keep the crowd on their feet all nig
 ht long. With top-tier sound systems\, dynamic lighting\, and immersive vi
 suals\, get ready for a multi-sensory experience that will leave you wanti
 ng more.\n\n&#x1f4c5\; Date: Friday\, July 18&#x1f4cd\; Location: Melrose 
 Ballroom&#x1f51e\; Age Requirement: 21+ (ID Required at Entry)&#x23f0\; Do
 ors Open: 11 PM – 4AM\n\n&#x1f680\; Tickets &amp\; VIP Experience\n&#x1f
 39f\; VIP Tables &amp\; Bottle Service – Want the ultimate VIP treatment
 ? Secure a private table\, enjoy bottle service\, and get front-row access
  to the best views and vibes of the night. VIP packages include premium li
 quor\, personalized service\, and exclusive seating areas. Limited availab
 ility—book now!\n\n\n\n\n\n\n\n\n\n\n\n\n\n\n\n\n\n\n\n\n\n\n\n\n\n\n\n\
 n\n\n\n\n\n\n\n\n\n\n\n\n\n\n\n\n&nbsp\;
ATTACH;FMTTYPE=image/jpeg:https://www.arabamerica.com/wp-content/uploads/2
 025/07/sss.jpg
LOCATION:Melrose Ballroom\, 36-08 33rd Street \, Queens\, New York\, 11106\
 , United States
GEO:40.755596;-73.928686
X-APPLE-STRUCTURED-LOCATION;VALUE=URI;X-ADDRESS=36-08 33rd Street \, Queens
 \, New York\, 11106\, United States;X-APPLE-RADIUS=100;X-TITLE=Melrose Bal
 lroom:geo:40.755596,-73.928686
END:VEVENT
BEGIN:VTIMEZONE
TZID:America/Detroit
X-LIC-LOCATION:America/Detroit
BEGIN:DAYLIGHT
DTSTART:20250309T030000
TZOFFSETFROM:-0500
TZOFFSETTO:-0400
TZNAME:EDT
END:DAYLIGHT
END:VTIMEZONE
END:VCALENDAR