BEGIN:VCALENDAR
VERSION:2.0
PRODID:-//wp-events-plugin.com//7.2.3.1//EN
TZID:America/Detroit
X-WR-TIMEZONE:America/Detroit
BEGIN:VEVENT
UID:34772@arabamerica.com
DTSTART;TZID=America/Detroit:20250719T200000
DTEND;TZID=America/Detroit:20250719T233000
DTSTAMP:20250715T162228Z
URL:https://www.arabamerica.com/events/habibi-arab-latin-party-florida/
SUMMARY:Habibi Arab-Latin Party (Florida)
DESCRIPTION:CORAL GABLES\, FL\n\n\n\nCome join us for a night of glowing fu
 n at Levant Restaurant! Get ready to dance the night away with great music
 \, delicious food\, and amazing company. Don't forget to wear your brighte
 st neon outfits to shine on the dance floor. This in-person event promises
  to be a night to remember\, so grab your friends and let's glow together 
 at GLOW HABIBI NIGHT!\n\n&nbsp\;\n\n&#x1f525\; WHAT TO EXPECT &#x1f525\;\n
 \n&#x1f379\; Bar\, Hoohah\, Food\n\n&#x1f3b6\; DJ Fadi\n\n&#x1f457\; Dress
  Code: Neon!\n\n&nbsp\;\n\n&#x1f3ab\; TICKET-ONLY EVENT – NO DOOR SALES!
  &#x1f3ab\;&#x1f517\; Get your tickets NOW!\n\n&#x1f6a8\; IMPORTANT INFO &
 #x1f6a8\;&#x2705\; Strictly 21+ | Photo ID Required&#x274c\; All purchases
  are final – No exchanges / No refunds\n\n&#x1f449\;&#x1f3fe\; Follow @a
 rabsocials for updates!\n\nEvent Disclaimer: By purchasing a ticket to thi
 s event\, you acknowledge and agree that photos and videos may be taken du
 ring the event and used for promotional purposes on social media and other
  platforms. All ticket sales are final. No refunds will be issued.
ATTACH;FMTTYPE=image/jpeg:https://www.arabamerica.com/wp-content/uploads/2
 025/07/aas.jpg
LOCATION:Levant Restaurant\, 2415 Ponce de Leon\, Coral Gables\, Flordia\, 
 33134\, United States
GEO:25.749008;-80.258308
X-APPLE-STRUCTURED-LOCATION;VALUE=URI;X-ADDRESS=2415 Ponce de Leon\, Coral 
 Gables\, Flordia\, 33134\, United States;X-APPLE-RADIUS=100;X-TITLE=Levant
  Restaurant:geo:25.749008,-80.258308
END:VEVENT
BEGIN:VTIMEZONE
TZID:America/Detroit
X-LIC-LOCATION:America/Detroit
BEGIN:DAYLIGHT
DTSTART:20250309T030000
TZOFFSETFROM:-0500
TZOFFSETTO:-0400
TZNAME:EDT
END:DAYLIGHT
END:VTIMEZONE
END:VCALENDAR