BEGIN:VCALENDAR
VERSION:2.0
PRODID:-//wp-events-plugin.com//7.2.3.1//EN
TZID:America/Detroit
X-WR-TIMEZONE:America/Detroit
BEGIN:VEVENT
UID:34911@arabamerica.com
DTSTART;TZID=America/Detroit:20250822T193000
DTEND;TZID=America/Detroit:20250822T220000
DTSTAMP:20250805T194502Z
URL:https://www.arabamerica.com/events/habibi-arabic-pop-music-dance-party
 -2/
SUMMARY:HABIBI: Arabic Pop Music Dance Party
DESCRIPTION:Welcome to HABIBI: Arabic Pop Music Dance Party at Mother Na
 tives! Get ready to dance the night away to the hottest Arabic pop hits on
  August 22\, 2025 at 7:30 PM. We are gathering to fundraise for 8 familie
 s in Gaza- suggested donation amount is $10\, but no one will be turned aw
 ay for lack of funds (NOTAFLOF).
ATTACH;FMTTYPE=image/jpeg:https://www.arabamerica.com/wp-content/uploads/2
 025/08/Screenshot-2025-08-05-at-12.44.49-PM.png
LOCATION:Mother Natives\, 4421 24th Street\, Sacramento\, California\, 9582
 2\, United States
GEO:38.533947;-121.483099
X-APPLE-STRUCTURED-LOCATION;VALUE=URI;X-ADDRESS=4421 24th Street\, Sacramen
 to\, California\, 95822\, United States;X-APPLE-RADIUS=100;X-TITLE=Mother 
 Natives:geo:38.533947,-121.483099
END:VEVENT
BEGIN:VTIMEZONE
TZID:America/Detroit
X-LIC-LOCATION:America/Detroit
BEGIN:DAYLIGHT
DTSTART:20250309T030000
TZOFFSETFROM:-0500
TZOFFSETTO:-0400
TZNAME:EDT
END:DAYLIGHT
END:VTIMEZONE
END:VCALENDAR