BEGIN:VCALENDAR
VERSION:2.0
PRODID:-//wp-events-plugin.com//7.2.3.1//EN
TZID:America/Detroit
X-WR-TIMEZONE:America/Detroit
BEGIN:VEVENT
UID:35195@arabamerica.com
DTSTART;TZID=America/Detroit:20251012T210000
DTEND;TZID=America/Detroit:20251013T020000
DTSTAMP:20251006T204821Z
URL:https://www.arabamerica.com/events/habibi-candela-dj-andre-soueid-debu
 t-art-beatz/
SUMMARY:Habibi Candela - Dj Andre Soueid DEBUT & Art Beatz
DESCRIPTION:HOLLYWOOD\, FL\n\n\n\n\n\n&#x1f525\; Habibi Candela is back on 
 Sunday\, October 12th Columbus Day Long Weekend — and this time we’re 
 making history.\n\nFor the first time ever in the United States\, internat
 ionally acclaimed DJ Andre Soueid takes the stage at DAER Nightclub inside
  the Hard Rock Guitar Hotel. Known for his breathtaking performances blend
 ing Arabic melodies with global sounds\, Andre has captivated audiences wo
 rldwide — and now he brings that magic to DAER for one unforgettable nig
 ht.\n\nJoining him is powerhouse DJ Art Beatz\, delivering an explosive Ar
 abic × Latin set that will keep the dancefloor alive until the early hour
 s. Together\, they’ll create the ultimate fusion of culture\, music\, an
 d energy.\n\n&#x1f4cd\; DAER Nightclub – Hard Rock Guitar Hotel\n&#x1f5d
 3\;&#xfe0f\; Sunday\, October 12 | &#x23f0\; 9PM – 2AM | 21+ Event\n\n&#
 x2728\; Expect:\n\n 	A historic U.S. debut by Andre Soueid &#x1f3bb\;\n 	H
 igh-energy Arabic × Latin beats from Art Beatz &#x1f50a\;\n 	Immersive pr
 oduction\, world-class sound\, and the Habibi Candela vibe &#x1f334\;&#x1f
 525\;\n\n&#x1f39f\;&#xfe0f\; Tickets &amp\; Tables\n&#x2728\; General Admi
 ssion (Standing): $75\n\n&#x1f7e1\; Yellow VVIP: $250/person\n&#x1f534\; R
 ed VIP: $150/person\n&#x1f7e0\; Orange Premium: $200/person\n&#x1f7e2\; Gr
 een Standard: $100/person\nContact us at: info@liveluxinternational.com af
 ter purchasing tables to Assign seats.\n\nBottle service and Hookah availa
 ble\n\n&#x1f39f\;&#xfe0f\; Tickets available now — secure your spot befo
 re it sells out.\n&#x1f4e9\; Email for VIP table reservations at info@live
 luxinternational.com\n\n&#x1f4f8\; MEDIA DISCLAIMER:By attending this even
 t\, you consent to photography and video recordings that may be used for p
 romotional purposes.\n\nNO FLAGS ALLOWED &#x1f6a9\;\n\n\n\n\n\n\n\n\n\n\n\
 n\n\n\n\n\n\n\n\n\n\n\n\n\n\n\n\n\n\n\n\n\n\n\n\n\n\n\n\n\n\n\n\n\n\n\n\n\
 n\n\n\n\n\n\n\n\n\n\n\n\n\n\n\n\n\n
ATTACH;FMTTYPE=image/jpeg:https://www.arabamerica.com/wp-content/uploads/2
 025/10/https-cdn.evbuc_.com-images-1138931873-1819825516023-1-original.202
 50929-162232.jpeg
LOCATION:DAER Nightclub\, 1 Lucky Street \, Hollywood\, FL\, 33314\, United
  States
GEO:26.053728;-80.209534
X-APPLE-STRUCTURED-LOCATION;VALUE=URI;X-ADDRESS=1 Lucky Street \, Hollywood
 \, FL\, 33314\, United States;X-APPLE-RADIUS=100;X-TITLE=DAER Nightclub:ge
 o:26.053728,-80.209534
END:VEVENT
BEGIN:VTIMEZONE
TZID:America/Detroit
X-LIC-LOCATION:America/Detroit
BEGIN:DAYLIGHT
DTSTART:20250309T030000
TZOFFSETFROM:-0500
TZOFFSETTO:-0400
TZNAME:EDT
END:DAYLIGHT
END:VTIMEZONE
END:VCALENDAR