BEGIN:VCALENDAR
VERSION:2.0
PRODID:-//wp-events-plugin.com//7.2.3.1//EN
TZID:America/Detroit
X-WR-TIMEZONE:America/Detroit
BEGIN:VEVENT
UID:35465@arabamerica.com
DTSTART;TZID=America/Detroit:20251231T210000
DTEND;TZID=America/Detroit:20260101T030000
DTSTAMP:20251211T141503Z
URL:https://www.arabamerica.com/events/habibi-candela-gatsby-masquerade-ne
 w-years-eve-arabic-latin-party/
SUMMARY:Habibi Candela: Gatsby Masquerade New Year’s Eve Arabic Latin Par
 ty
DESCRIPTION:\n\nOverview\n\n\n\n\n\nArabic × Latin NYE Party • Golden Co
 untdown • Gatsby Masquerade Vibes • Hookah &amp\; VIP Tables • 21+ -
  Featuring the one and only ART BEATZ\n\n\n\n\nRing in the New Year at HA
 BIBI Candela Gatsby Masquerade — New Year's Eve\, an unforgettable exper
 ience blending Arabic × Latin energy with Deco glamour—headlined by A
 RT BEATZ at MITA Nightclub.\n\nFIRST Live Lux International New Year's E
 ve Party!\n\nWhere &amp\; When\n\n 	Venue: MITA Nightclub\, 31 NW 36th S
 t\, Miami\, FL 33127\n 	Date: Wednesday\, Dec 31\n 	Doors: 9:00 PM • 
 Countdown at Midnight • Party until LATE\n 	Age: 21+ (valid ID requir
 ed)\n\nMusic &amp\; Talent\n\n 	Headliner: ART BEATZ\n 	Support: 2× DJs
  TBA + Special Guest TBA\nExpect a high-energy mix of Arabic\, Latin\, a
 nd crossover anthems designed for a wall-to-wall dance floor.\n\nTheme &am
 p\; Dress Code\n\n 	Gatsby Masquerade: -Deco chic.\n 	Masks welcome (not
  required).\n\nExperience\n\n 	Golden Countdown at midnight\n 	Hookah wit
 h Charcoal available\n 	VIP tables &amp\; bottle service (limited)\n 	Prof
 essional photo/video capture for the recap\n\nTickets &amp\; Tables\n\n 	L
 imited GA and VIP table options available here on Eventbrite.\n 	For t
 able reservations or large groups\, message us on Instagram or Whatsapp us
  at: (954) 955-9257 (Only Whatsapp)\n\nPolicies\n\n 	21+ only • All sale
 s final unless event is canceled or rescheduled.\n 	By attending\, you con
 sent to photo/video recording for event recap.\n\nPresented by Live Lux I
 nternational • Sponsor: Mars Bar\n\nGet your crew\, dress Deco\, and 
 dance ’til dawn.\n\n\n\n\n\n\n\n\n\n\n\n\n\n\n\n\n\n\n\n
ATTACH;FMTTYPE=image/jpeg:https://www.arabamerica.com/wp-content/uploads/2
 025/11/https___cdn.evbuc_.com_images_1171013589_1819825516023_1_original.j
 peg
LOCATION:31 NW 36th St\, 31 Northwest 36th Street\, Miami\, FL\, 33127\, Un
 ited States
GEO:25.810582;-80.195935
X-APPLE-STRUCTURED-LOCATION;VALUE=URI;X-ADDRESS=31 Northwest 36th Street\, 
 Miami\, FL\, 33127\, United States;X-APPLE-RADIUS=100;X-TITLE=31 NW 36th S
 t:geo:25.810582,-80.195935
END:VEVENT
BEGIN:VTIMEZONE
TZID:America/Detroit
X-LIC-LOCATION:America/Detroit
BEGIN:STANDARD
DTSTART:20251102T010000
TZOFFSETFROM:-0400
TZOFFSETTO:-0500
TZNAME:EST
END:STANDARD
END:VTIMEZONE
END:VCALENDAR