BEGIN:VCALENDAR
VERSION:2.0
PRODID:-//wp-events-plugin.com//7.2.3.1//EN
TZID:America/Detroit
X-WR-TIMEZONE:America/Detroit
BEGIN:VEVENT
UID:35202@arabamerica.com
DTSTART;TZID=America/Detroit:20251017T210000
DTEND;TZID=America/Detroit:20251018T020000
DTSTAMP:20251007T214205Z
URL:https://www.arabamerica.com/events/habibi-come-to-galeria-2/
SUMMARY:Habibi\, Come to Galeria
DESCRIPTION:CHICAGO\, IL\n\n21+\n\nJoin us for a vibrant night including Ar
 abic &amp\; English mixes\, drinks and live entertainment\n\n\nHighlights\
 n\n\n\n 	5 hours\n 	Ages 21+\n 	In person\n 	\n\n\n\n\n\n\n\nRefund Policy
 \n\nRefunds up to 7 days before event\n\n\nGet Tickets Here\n&nbsp\;
ATTACH;FMTTYPE=image/jpeg:https://www.arabamerica.com/wp-content/uploads/2
 025/10/Screenshot-2025-10-07-at-5.35.50-PM.png
LOCATION:Galeria Chicago\, 9 West Division Street\, Chicago\, IL\, 60610\, 
 United States
GEO:41.903783;-87.62908
X-APPLE-STRUCTURED-LOCATION;VALUE=URI;X-ADDRESS=9 West Division Street\, Ch
 icago\, IL\, 60610\, United States;X-APPLE-RADIUS=100;X-TITLE=Galeria Chic
 ago:geo:41.903783,-87.62908
END:VEVENT
BEGIN:VTIMEZONE
TZID:America/Detroit
X-LIC-LOCATION:America/Detroit
BEGIN:DAYLIGHT
DTSTART:20250309T030000
TZOFFSETFROM:-0500
TZOFFSETTO:-0400
TZNAME:EDT
END:DAYLIGHT
END:VTIMEZONE
END:VCALENDAR