BEGIN:VCALENDAR
VERSION:2.0
PRODID:-//wp-events-plugin.com//7.2.3.1//EN
TZID:America/Detroit
X-WR-TIMEZONE:America/Detroit
BEGIN:VEVENT
UID:35664@arabamerica.com
DTSTART:20260208T020000Z
DTEND:20260208T070000Z
DTSTAMP:20260107T012132Z
URL:https://www.arabamerica.com/events/habibi-come-to-thewit/
SUMMARY:Habibi\, Come to theWit
DESCRIPTION:\nOverview\n\n\n\n\n\nThe Arab American Group - 1 Year Annivers
 ary - Black Tie Event!\n\n\n\n\nThe Arab American Group is hosting its fir
 st annual black tie event! Join us as we celebrate our one year anniversar
 y!\n\nNetworking | Live DJ | Belly Dancers | Drummers | Cash Bar\n\n\n\n\n
 \n\nFor table/bottle service reservations please text 224-260-1646\n\n\n\n
 \n\n
ATTACH;FMTTYPE=image/jpeg:https://www.arabamerica.com/wp-content/uploads/2
 026/01/https___cdn.evbuc_.com_images_1173667478_2636702731791_1_original.j
 peg
LOCATION:theWit Chicago\, 201 North State Street\, Chicago\, IL\, 60601\, U
 nited States
GEO:41.886041;-87.627623
X-APPLE-STRUCTURED-LOCATION;VALUE=URI;X-ADDRESS=201 North State Street\, Ch
 icago\, IL\, 60601\, United States;X-APPLE-RADIUS=100;X-TITLE=theWit Chica
 go:geo:41.886041,-87.627623
END:VEVENT
END:VCALENDAR