BEGIN:VCALENDAR
VERSION:2.0
PRODID:-//wp-events-plugin.com//7.2.3.1//EN
TZID:America/Detroit
X-WR-TIMEZONE:America/Detroit
BEGIN:VEVENT
UID:34838@arabamerica.com
DTSTART;TZID=America/Detroit:20250802T150000
DTEND;TZID=America/Detroit:20250802T210000
DTSTAMP:20250730T094957Z
URL:https://www.arabamerica.com/events/habibi-come-to-whispers/
SUMMARY:Habibi\, Come To Whispers
DESCRIPTION:CHICAGO\, ILLINOIS\n\n\n\nYalla Habibi! The Arab-American Group
  invites you to join us Saturday\, August 2nd\, 2025 at Whispers at Oak St
 reet Beach for our official summer event!\n\nWhat to expect\n\n 	Live DJ P
 erformances - Arabic &amp\; English mixes\n 	Drinks &amp\; Live Entertainm
 ent\n 	Belly Dancers\n 	Fire Dancers\n 	Drummers\n 	Mediterranean &amp\; S
 unset Vibes\n 	Cabanas &amp\; VIP Sections\n\nTo inquire/reserve a cabana\
 , text 847-749-5934\n\nWe can't wait to see you there!
ATTACH;FMTTYPE=image/jpeg:https://www.arabamerica.com/wp-content/uploads/2
 025/07/cas.jpeg
LOCATION:Whispers at Oak Street Beach\, 1001 North Lake Shore Drive\, Chica
 go\, Illinois\, 60611\, United States
GEO:41.901743;-87.621829
X-APPLE-STRUCTURED-LOCATION;VALUE=URI;X-ADDRESS=1001 North Lake Shore Drive
 \, Chicago\, Illinois\, 60611\, United States;X-APPLE-RADIUS=100;X-TITLE=W
 hispers at Oak Street Beach:geo:41.901743,-87.621829
END:VEVENT
BEGIN:VTIMEZONE
TZID:America/Detroit
X-LIC-LOCATION:America/Detroit
BEGIN:DAYLIGHT
DTSTART:20250309T030000
TZOFFSETFROM:-0500
TZOFFSETTO:-0400
TZNAME:EDT
END:DAYLIGHT
END:VTIMEZONE
END:VCALENDAR