BEGIN:VCALENDAR
VERSION:2.0
PRODID:-//wp-events-plugin.com//7.2.3.1//EN
TZID:America/Detroit
X-WR-TIMEZONE:America/Detroit
BEGIN:VEVENT
UID:35244@arabamerica.com
DTSTART;TZID=America/New_York:20251017T210000
DTEND;TZID=America/New_York:20251018T020000
DTSTAMP:20251014T033735Z
URL:https://www.arabamerica.com/events/habibi-fridays-october-17th/
SUMMARY:Habibi Fridays October 17th
DESCRIPTION:\n\n\nSantos presents Habibi Fridays — a night of Arabic &amp
 \; Mediterranean sounds\, and live percussion vibes.\n\n\n\n\n\n\n\n\nDate
  and time\n\n\n\n\nOctober 17 · 9pm - October 18 · 2am EDT\n\n\n\n\n\n\n
 \n\n\n\n\n\n\nLocation\n\n\n\nSantos Restaurant &amp\; Bar\n\n1079 North H
 igh Street Columbus\, OH 43201\nGet directions\n\n\n\n\n\n\n\n\n\n\n\nGood
  to know\n\n\n\n\n\nHighlights\n\n\n\n 	5 hours\n 	ages 21+\n 	In person\n
 \n\n\n\n\n\nRefund Policy\n\nNo refunds\n\n\n\n\n\n\n\n\n\n\n\n\nAbout thi
 s event\n\nCommunity • Other\n\n\n\n\n\n\nHabibi Friday returns October 
 17th at Santos! Habibi Friday is returning for another unforgettable nigh
 t of Mediterranean\, Arabic and global sounds.\n\n&#x2728\; Featuring:&#x
 1f3a7\; DJ Ebrahim – delivering high-energy international beats&#x1f94
 1\; Ryan Milad – live percussion bringing the rhythm to life\n\nExpect
  a night filled with dancing\, connection\, and cultural flavor\n\n&#x1f37
 8\; Late night drinks only – no food service available&#x1f57a\; Come 
 ready to dance\, vibe\, and celebrate all night long!\n\n&#x1f4cd\; Santo
 s | Columbus\, OH&#x1f5d3\;&#xfe0f\; Friday\, October 17th &#x23f0\; Do
 ors open at 9pm&#x1f4de\; More info: 305-542-5878\n\n21+ only | Dress to i
 mpress | Early arrival strongly suggested\n\n\n\n\n\n\n\n\n
ATTACH;FMTTYPE=image/jpeg:https://www.arabamerica.com/wp-content/uploads/2
 025/10/https___cdn.evbuc_.com_images_1056850893_536489337119_1_original.jp
 g
CATEGORIES:arabic music,Danceparty
LOCATION:Santos Restaurant and Bar\, 1079 North High St\, Columbus \, Ohio\
 , 43201\, United States
GEO:39.984382;-83.005503
X-APPLE-STRUCTURED-LOCATION;VALUE=URI;X-ADDRESS=1079 North High St\, Columb
 us \, Ohio\, 43201\, United States;X-APPLE-RADIUS=100;X-TITLE=Santos Resta
 urant and Bar:geo:39.984382,-83.005503
END:VEVENT
BEGIN:VTIMEZONE
TZID:America/New_York
X-LIC-LOCATION:America/New_York
BEGIN:DAYLIGHT
DTSTART:20250309T030000
TZOFFSETFROM:-0500
TZOFFSETTO:-0400
TZNAME:EDT
END:DAYLIGHT
END:VTIMEZONE
END:VCALENDAR