BEGIN:VCALENDAR
VERSION:2.0
PRODID:-//wp-events-plugin.com//7.2.3.1//EN
TZID:America/Detroit
X-WR-TIMEZONE:America/Detroit
BEGIN:VEVENT
UID:35456@arabamerica.com
DTSTART;TZID=America/Detroit:20251129T110000
DTEND;TZID=America/Detroit:20251129T110000
DTSTAMP:20251124T152908Z
URL:https://www.arabamerica.com/events/habibi-miami-yacht/
SUMMARY:Habibi Miami Yacht
DESCRIPTION:NORTH MIAMI BEACH\, FL\n\n\n\nExact location will be emailed to
  ticket holders! Swimming\, food\, music! BYOB
ATTACH;FMTTYPE=image/jpeg:https://www.arabamerica.com/wp-content/uploads/2
 025/11/https-cdn.evbuc_.com-images-1158984593-2252565166733-1-original.png
 .jpeg
LOCATION:North Miami Beach\, n/a\, North Miami Beach\, FL\, 33181\, United 
 States
GEO:25.852798;-80.127984
X-APPLE-STRUCTURED-LOCATION;VALUE=URI;X-ADDRESS=n/a\, North Miami Beach\, F
 L\, 33181\, United States;X-APPLE-RADIUS=100;X-TITLE=North Miami Beach:geo
 :25.852798,-80.127984
END:VEVENT
BEGIN:VTIMEZONE
TZID:America/Detroit
X-LIC-LOCATION:America/Detroit
BEGIN:STANDARD
DTSTART:20251102T010000
TZOFFSETFROM:-0400
TZOFFSETTO:-0500
TZNAME:EST
END:STANDARD
END:VTIMEZONE
END:VCALENDAR