BEGIN:VCALENDAR
VERSION:2.0
PRODID:-//wp-events-plugin.com//7.2.3.1//EN
TZID:America/Detroit
X-WR-TIMEZONE:America/Detroit
BEGIN:VEVENT
UID:31614@arabamerica.com
DTSTART;TZID=America/Detroit:20230914T200000
DTEND;TZID=America/Detroit:20230914T230000
DTSTAMP:20230824T140055Z
URL:https://www.arabamerica.com/events/haflah-a-celebration-of-art-and-cul
 ture/
SUMMARY:Haflah: A Celebration of Art and Culture
DESCRIPTION:[caption id="attachment_239040" align="alignnone" width="365"] 
 Haflah: A Celebration of Art and Culture[/caption]\n\n&nbsp\;\nAbout this 
 event\nWe are pleased to announce an upcoming collaboration with the Natio
 nal Arab Orchestra and the Flint Institute of Music. "Haflah – Celebrati
 on of Art and Culture" will be held on September 14th. Join us for an ev
 ening rich in culture and musical tradition. The AAHC is offering compli
 mentary tickets to the first 200 people that register!  Reserve your s
 pot today by scanning the QR code or visiting the link HERE.
CATEGORIES:#arabic,Arab American,Arabic Community,Arabic Culture,Arabic
 Event,Art,Art and culture,Community,culture,Music/Folk/World,Orchestra
LOCATION:Capitol Theater\, 140 E 2nd Street\, Flint\, Michigan\, 48502\, Un
 ited States
GEO:43.015388;-83.688789
X-APPLE-STRUCTURED-LOCATION;VALUE=URI;X-ADDRESS=140 E 2nd Street\, Flint\, 
 Michigan\, 48502\, United States;X-APPLE-RADIUS=100;X-TITLE=Capitol Theate
 r:geo:43.015388,-83.688789
END:VEVENT
BEGIN:VTIMEZONE
TZID:America/Detroit
X-LIC-LOCATION:America/Detroit
BEGIN:DAYLIGHT
DTSTART:20230312T030000
TZOFFSETFROM:-0500
TZOFFSETTO:-0400
TZNAME:EDT
END:DAYLIGHT
END:VTIMEZONE
END:VCALENDAR