BEGIN:VCALENDAR
VERSION:2.0
PRODID:-//wp-events-plugin.com//7.2.3.1//EN
TZID:America/Detroit
X-WR-TIMEZONE:America/Detroit
BEGIN:VEVENT
UID:32266@arabamerica.com
DTSTART;TZID=America/Detroit:20240225T170000
DTEND;TZID=America/Detroit:20240225T210000
DTSTAMP:20240219T190611Z
URL:https://www.arabamerica.com/events/hairdressers-for-palestine-hosted-b
 y-220-salon/
SUMMARY:Hairdressers For Palestine\, hosted by 220 Salon
DESCRIPTION:[caption id="attachment_245148" align="alignnone" width="300"] 
 Hairdresser For Palestine hosted 220 Salon promotional poster.[/caption]\n
 \n&nbsp\;\n\nPORTLAND\, OREGON\n\nJoin us for an evening of hair\, communi
 ty\, and love to raise money for families in Gaza. We will have a raffle\,
  music\, food &amp\; drinks\, tarot\, and more.\n\nHair demos by Wendy New
 some (@wendycuts_hair)\, Katie Pattison (@katiepdxhair)\, Mahaila Penson (
 @1800hellyeah)\, Nafisaria Mathews (@nafisaria)\, Manda Ziegelman (@mandaz
 iegelman)\, and Ocean McDaeth (@ocean_mcdaeth)\n\nRaffle tickets will be a
 vailable for purchase (cash or Venmo) and prizes include education\, produ
 ct packages\, aesthetic and body treatments\, jewelry\, gift cards\, and m
 ore. You won't want to miss out on these amazing prizes!\n\nAll event &amp
 \; raffle proceeds will go to provide food\, clean water\, &amp\; supplies
  directly to families at UNRWA school displacement camps in Southern Gaza.
  For more information on this direct mutual aid fund visit https://www.gof
 undme.com/f/emergency-food-aid-in-gaza\n\nWe can't wait to see all of you 
 there!
ATTACH;FMTTYPE=image/jpeg:https://www.arabamerica.com/wp-content/uploads/2
 024/02/Hairdresser-For-Palestine-Hosted-220-Salon-.png
LOCATION:220 Salon\, 4228 North Williams Avenue\, Portland \, Oregon \, 972
 17\, United States
GEO:45.554071;-122.666609
X-APPLE-STRUCTURED-LOCATION;VALUE=URI;X-ADDRESS=4228 North Williams Avenue\
 , Portland \, Oregon \, 97217\, United States;X-APPLE-RADIUS=100;X-TITLE=2
 20 Salon:geo:45.554071,-122.666609
END:VEVENT
BEGIN:VTIMEZONE
TZID:America/Detroit
X-LIC-LOCATION:America/Detroit
BEGIN:STANDARD
DTSTART:20231105T010000
TZOFFSETFROM:-0400
TZOFFSETTO:-0500
TZNAME:EST
END:STANDARD
END:VTIMEZONE
END:VCALENDAR