BEGIN:VCALENDAR
VERSION:2.0
PRODID:-//wp-events-plugin.com//7.2.3.1//EN
TZID:America/Detroit
X-WR-TIMEZONE:America/Detroit
BEGIN:VEVENT
UID:34072@arabamerica.com
DTSTART;TZID=America/Detroit:20250309T193000
DTEND;TZID=America/Detroit:20250309T213000
DTSTAMP:20250218T184403Z
URL:https://www.arabamerica.com/events/hala-freedom-a-night-of-syrian-musi
 c/
SUMMARY:Hala Freedom | A night of Syrian Music
DESCRIPTION:SAN FRANSISCO\, CA\n\nSliding scale tickets (no one will be tur
 ned away for lack of funds). All profits will be donated to organizations 
 supporting Syrians suffering from PTSD due to imprisonment and torture und
 er Assad’s regime.\n\nCome join us for a magical evening filled with the
  enchanting sounds of Syrian music at The Lab! Immerse yourself in the ri
 ch melodies and rhythms of Syria as talented musicians take the stage to t
 ransport you to a world of beauty and tradition. Let the music of Syria ca
 ptivate your senses and leave you feeling inspired. Don't miss out on this
  unique opportunity to experience the heart and soul of Syrian culture thr
 ough music. See you there!\n\nHurriyah\, Arabic for freedom\, is the word 
 that people across the Arab-speaking world have shouted repeatedly as they
  fight against tyranny and oppression. Today\, Syrians can finally say Hur
 riyah to describe their reality rather than their hopes. Come celebrate wi
 th us as we celebrate the fall of the Assad regime with Syrian songs rangi
 ng from folklore to contemporary music.\n\nWe will also be celebrating the
  ceasefires in Lebanon and Gaza – in hopes that they will last – and t
 he return of Gazans to their homes after months and months of suffering. T
 he road is long and thorny\, people are still suffering\, and the future i
 s uncertain. Yet in the Levant and beyond\, we always know when to find mo
 ments of joy and how to keep living\, singing\, and dancing even when bull
 ets are falling upon us.\n\nThe performance will be about two hours long a
 nd will feature Basma Edrees (violin)\; Clarissa Bitar (oud)\; Susu (tabla
 )\; Monica Berini (riqq/daff)\; Rana Mroue\, Moe Nasser\, Nasser Meerkhan\
 , and Nour Bouhassoun (vocals).
ATTACH;FMTTYPE=image/jpeg:https://www.arabamerica.com/wp-content/uploads/2
 025/02/eeew.png
CATEGORIES:#arabic,Arab,Arab Ameircan Event,Arab
 American,Community,culture,Discussion,Food,Music/Folk/World
LOCATION:The Lab\, 2948 16th Street\, San Francisco\, CA\, 94103\, United S
 tates
GEO:37.765289;-122.418493
X-APPLE-STRUCTURED-LOCATION;VALUE=URI;X-ADDRESS=2948 16th Street\, San Fran
 cisco\, CA\, 94103\, United States;X-APPLE-RADIUS=100;X-TITLE=The Lab:geo:
 37.765289,-122.418493
END:VEVENT
BEGIN:VTIMEZONE
TZID:America/Detroit
X-LIC-LOCATION:America/Detroit
BEGIN:DAYLIGHT
DTSTART:20250309T030000
TZOFFSETFROM:-0500
TZOFFSETTO:-0400
TZNAME:EDT
END:DAYLIGHT
END:VTIMEZONE
END:VCALENDAR