BEGIN:VCALENDAR
VERSION:2.0
PRODID:-//wp-events-plugin.com//7.2.3.1//EN
TZID:America/Detroit
X-WR-TIMEZONE:America/Detroit
BEGIN:VEVENT
UID:34648@arabamerica.com
DTSTART;TZID=America/Detroit:20250626T180000
DTEND;TZID=America/Detroit:20250626T200000
DTSTAMP:20250624T162714Z
URL:https://www.arabamerica.com/events/hands-off-iran/
SUMMARY:Hands off Iran!
DESCRIPTION:DEARBORN\, MI\n\n&nbsp\;\n\nDEARBORN – THIS THURSDAY @ 6PM&#x
 203c\;&#xfe0f\;\n\nJoin us to demand an end to “israel’s” violent ag
 gression against Iran and protest Trump’s unprovoked attacks on Iran’s
  nuclear facilities. As the genocide in Gaza continues\, the U.S. and “i
 srael” are escalating their attacks across the region and expanding thei
 r imperial agenda. We say: NO to war\, NO to genocide\, and NO to imperial
 ism.\n\n&#x1f4cd\; Henry Ford Centennial Library\n&#x1f5d3\;&#xfe0f\; Thur
 sday\, June 26th\n&#x1f555\; 6:00 PM
ATTACH;FMTTYPE=image/jpeg:https://www.arabamerica.com/wp-content/uploads/2
 025/06/Screenshot-2025-06-24-at-7.20.52 PM.png
LOCATION:Henry Ford Centennial Library\, 16301 Michigan Ave\, Dearborn\, MI
 \, United States
GEO:42.3131737;-83.2026237
X-APPLE-STRUCTURED-LOCATION;VALUE=URI;X-ADDRESS=16301 Michigan Ave\, Dearbo
 rn\, MI\, United States;X-APPLE-RADIUS=100;X-TITLE=Henry Ford Centennial L
 ibrary:geo:42.3131737,-83.2026237
END:VEVENT
BEGIN:VTIMEZONE
TZID:America/Detroit
X-LIC-LOCATION:America/Detroit
BEGIN:DAYLIGHT
DTSTART:20250309T030000
TZOFFSETFROM:-0500
TZOFFSETTO:-0400
TZNAME:EDT
END:DAYLIGHT
END:VTIMEZONE
END:VCALENDAR