BEGIN:VCALENDAR
VERSION:2.0
PRODID:-//wp-events-plugin.com//7.2.3.1//EN
TZID:America/Detroit
X-WR-TIMEZONE:America/Detroit
BEGIN:VEVENT
UID:35654@arabamerica.com
DTSTART;TZID=America/New_York:20260111T130000
DTEND;TZID=America/New_York:20260111T160000
DTSTAMP:20260106T162145Z
URL:https://www.arabamerica.com/events/hands-on-tatreez-workshop/
SUMMARY:Hands-On Tatreez Workshop
DESCRIPTION:\nSYRACUSE\, NY\n\nJoin us for a hands-on workshop that introdu
 ces participants to the art of Tatreez\, a traditional Palestinian embroid
 ery practice.\n\n\n\n\nMore than a craft\, Tatreez is a language of patter
 n and memory — a textile tradition that carries the histories\, geograph
 ies\, and stories of Palestinian women across generations.\n\nIn this guid
 ed session\, participants will learn foundational stitches\, explore the m
 eanings embedded in traditional motifs\, and engage with a curated selecti
 on of vintage thobes — embroidered dresses that serve as living archives
  of Palestinian identity and heritage. Through practice and discussion\, t
 he workshop offers space to reflect on the intersections of art\, culture\
 , and resilience.\n\nAdvance registration is required. On-site registratio
 n will not be available. The workshop is limited to 40 participants on a f
 irst-come\, first-served basis. Confirmed participants will receive a sepa
 rate email with details.\n\n\nREGISTER HERE\n\n
ATTACH;FMTTYPE=image/jpeg:https://www.arabamerica.com/wp-content/uploads/2
 026/01/Screenshot-2026-01-06-at-11.22.14-AM.png
LOCATION:ArtRage Gallery\, 505 Hawley Ave\, Syracuse\, NY\, United States
GEO:43.0534421;-76.13592870000002
X-APPLE-STRUCTURED-LOCATION;VALUE=URI;X-ADDRESS=505 Hawley Ave\, Syracuse\,
  NY\, United States;X-APPLE-RADIUS=100;X-TITLE=ArtRage Gallery:geo:43.0534
 421,-76.13592870000002
END:VEVENT
BEGIN:VTIMEZONE
TZID:America/New_York
X-LIC-LOCATION:America/New_York
BEGIN:STANDARD
DTSTART:20251102T010000
TZOFFSETFROM:-0400
TZOFFSETTO:-0500
TZNAME:EST
END:STANDARD
END:VTIMEZONE
END:VCALENDAR