BEGIN:VCALENDAR
VERSION:2.0
PRODID:-//wp-events-plugin.com//7.2.3.1//EN
TZID:America/Detroit
X-WR-TIMEZONE:America/Detroit
BEGIN:VEVENT
UID:34397@arabamerica.com
DTSTART;TZID=America/Detroit:20250510T170000
DTEND;TZID=America/Detroit:20250510T170000
DTSTAMP:20250506T233428Z
URL:https://www.arabamerica.com/events/harmony-hope/
SUMMARY:Harmony & Hope
DESCRIPTION:PLANO\, TX\nJoin us for an inspiring evening of music and solid
 arity at Harmony &amp\; Hope featuring the enchanting voice of Nibal Mal
 shi. This special gathering aims to raise urgent funds for humanitarian re
 lief in Gaza\, where over 2 million people\, including 1.7 million Palesti
 ne refugees\, are facing starvation and death while the world watches.\nNi
 bal Malshi\, renowned for her soulful interpretations of classic Arab musi
 c\, will perform alongside Omar Abbad. Her artistry serves as a poignant r
 eminder of the resilience and spirit of the Palestinian people.\nAll proce
 eds from the event will support UNRWA USA's emergency response efforts\, p
 roviding life-saving food\, water\, medical care\, and shelter to those in
  dire need.\nCome together with friends\, enjoy meaningful conversation\, 
 and experience the power of music to unite and heal. Let's stand in solida
 rity with Gaza and make a tangible difference.
ATTACH;FMTTYPE=image/jpeg:https://www.arabamerica.com/wp-content/uploads/2
 025/05/Screen-Shot-2025-05-06-at-19.33.55.png
LOCATION:The Miraj Room\, 4013 14st Street\, Plano\, Texas\, United States
GEO:33.0154;-96.655827
X-APPLE-STRUCTURED-LOCATION;VALUE=URI;X-ADDRESS=4013 14st Street\, Plano\, 
 Texas\, United States;X-APPLE-RADIUS=100;X-TITLE=The Miraj Room:geo:33.015
 4,-96.655827
END:VEVENT
BEGIN:VTIMEZONE
TZID:America/Detroit
X-LIC-LOCATION:America/Detroit
BEGIN:DAYLIGHT
DTSTART:20250309T030000
TZOFFSETFROM:-0500
TZOFFSETTO:-0400
TZNAME:EDT
END:DAYLIGHT
END:VTIMEZONE
END:VCALENDAR