BEGIN:VCALENDAR
VERSION:2.0
PRODID:-//wp-events-plugin.com//7.2.3.1//EN
TZID:America/Detroit
X-WR-TIMEZONE:America/Detroit
BEGIN:VEVENT
UID:34320@arabamerica.com
DTSTART;TZID=America/Detroit:20250522T190000
DTEND;TZID=America/Detroit:20250522T200000
DTSTAMP:20250423T184304Z
URL:https://www.arabamerica.com/events/hawa-hassan-in-conversation-for-set
 ting-a-place-for-us/
SUMMARY:Hawa Hassan in Conversation for Setting a Place for Us
DESCRIPTION:LOS ANGELES\, CA\n\nHawa Hassan\, James Beard Award winner\, te
 levision host\, author of In Bibi’s Kitchen\, and founder and CEO of Bas
 baas\, makers of African-inspired sauces and condiments\, in conversation 
 for Setting a Place for Us: Recipes and Stories of Displacement\, Resillan
 ce\, and Community from Eight Countries of War. Moderated by Culinary Mult
 itasker\, Evan Kleiman. Book signing and meet and greet to follow.\n\nAn e
 nthralling\, intimate collection of essays and over 75 recipes exploring t
 he history of eight countries to understand the impact of geopolitical con
 flict and its outcomes on cuisine and food system\, from Somali refugee an
 d James Beard Award-winning author of In Bibi's Kitchen.\n\nCountries deal
 ing with major conflict are rarely portrayed in a well-rounded light by th
 e media. Images of disarray and decline saturate their narratives\, ignori
 ng the strength\, resourcefulness\, and ingenuity that arise from having t
 o navigate conflict. With empathy\, curiosity\, and an insistence on shari
 ng different aspects of human survival\, Hawa Hassan gathers singular\, mu
 ltifaceted narratives for eight countries from around the world.\n\nEach c
 hapter is devoted to a different country and opens with an informative ess
 ay on the culture and its history. Recipes follow highlighting indigenous 
 ingredients and share intimate portraits of the people preserving food cul
 ture\, including food from:\n\n 	Afghanistan\, such as Bolani (Stuffed Fla
 tbread) and Borani Banjan (Stewed Eggplant with Garlic Yogurt)\n 	Democrat
 ic Republic of Congo\, such as Chikwanga (Cassava Flour Cake) and Pondu (C
 assava Leaf Stew)\n 	Egypt\, such as Ta'ameya (Fava Bean Fritters) and Gho
 rayeba (Shortbread Cookies)\n 	El Salvador\, such as Sopa de Res (Beef Sha
 nk Soup) and Pupusas con Curtido (Filled Masa Flatbreads with Cabbage Slaw
 )\n 	Iraq\, such as Shorbat Adas (Lentil Soup) and Bamia (Lamb and Okra St
 ew)\n 	Lebanon\, such as Malfouf (Stuffed Cabbage Rolls) and Mouhamara (Sp
 icy Walnut and Red Pepper dip)\n 	Liberia\, such as Ground Peanut Soup and
  Kala (Sweet Fried Dough)\n 	Yemen\, such as Saltah (Lamb Stew with Fenugr
 eek Fruth) and Sahawiq\n\nAn original and groundbreaking work\, Setting a 
 Place for Us returns agency to the people whose stories\, up until now\, h
 ave been ignored in the media. It sheds light on the important work of pre
 serving recipes and food traditions in places of conflict and migration.
ATTACH;FMTTYPE=image/jpeg:https://www.arabamerica.com/wp-content/uploads/2
 025/04/Screenshot-2025-04-23-at-2.50.35 PM.png
LOCATION:Now Serving\, 727 North Broadway\, Los Angeles\, CA\, 90012\, Unit
 ed States
GEO:34.061302;-118.239253
X-APPLE-STRUCTURED-LOCATION;VALUE=URI;X-ADDRESS=727 North Broadway\, Los An
 geles\, CA\, 90012\, United States;X-APPLE-RADIUS=100;X-TITLE=Now Serving:
 geo:34.061302,-118.239253
END:VEVENT
BEGIN:VTIMEZONE
TZID:America/Detroit
X-LIC-LOCATION:America/Detroit
BEGIN:DAYLIGHT
DTSTART:20250309T030000
TZOFFSETFROM:-0500
TZOFFSETTO:-0400
TZNAME:EDT
END:DAYLIGHT
END:VTIMEZONE
END:VCALENDAR