BEGIN:VCALENDAR
VERSION:2.0
PRODID:-//wp-events-plugin.com//7.2.3.1//EN
TZID:America/Detroit
X-WR-TIMEZONE:America/Detroit
BEGIN:VEVENT
UID:32258@arabamerica.com
DTSTART;TZID=America/Detroit:20240303T080000
DTEND;TZID=America/Detroit:20240303T180000
DTSTAMP:20240219T155520Z
URL:https://www.arabamerica.com/events/hbs-mena-conference-2024-unleashing
 -the-regions-business-potential/
SUMMARY:HBS MENA Conference 2024 - Unleashing the Region's Business Potenti
 al
DESCRIPTION:&nbsp\;\n\n[caption id="attachment_245132" align="alignnone" wi
 dth="300"] Mena Business Conference 2024-Promotional Image[/caption]\n\n&n
 bsp\;\n\nBOSTON\, MA\n\nThe Middle East &amp\; North Africa ("MENA") Club\
 , a student club at Harvard Business School\, is holding its annual MENA B
 usiness Conference on March 3\, 2024\, on the Harvard Business School camp
 us in Boston.\n\nThe event will bring together prominent thought leaders\,
  industry experts\, and business enthusiasts to explore and catalyze the b
 usiness potential within the MENA region.\n\nOur lineup includes:\n- Leila
  Serhan (General Manager North Africa\, Levant and Pakistan at Visa)\n- Pa
 ul Noumba Um (Regional Director at the World Bank)\n- Amal Enan (partner a
 t 500 Global)\n- Ali Farag (professional squash player and world champion)
 \n- Ali Aldamanhoori (CEO of HungerStation)\n- Amer Lahham (Partner at Kea
 rney)\n- Yazeed Alshammari (Partner and Head of Saudi Innovation at MSA No
 vo)\n- Reem Goussous (Chief Growth Officer at Village Capital)\n- Donal Mc
 Elwee (Global Managing Partner at Portas Consulting)\n\nThe HBS MENA Busin
 ess Conference 2024 promises to be a forum for knowledge exchange\, collab
 oration\, and exploration. Register now and be a part of this exciting eve
 nt!\n\nThanks to the generous support of our sponsors Kearney\, CIB\, Hung
 erStation\, Synapse Analytics\, and Scope\, we're delighted to announce re
 duced ticket prices. Admission covers breakfast and lunch during the event
 \, in addition to a reception afterward for networking opportunities with 
 panelists and attendees.\n\nWe have formed partnerships with the Charles H
 otel\, Sheraton Commander\, and Studio Allston Hotel to offer reduced rate
 s for conference participants. For the latest packages\, please visit the 
 'Getting There' page on our website www.menaconferencehbs.com\n\nThe dress
  code is business casual.
ATTACH;FMTTYPE=image/jpeg:https://www.arabamerica.com/wp-content/uploads/2
 024/02/Mena-Business-Conference-2024-Promotional-Image-.png
END:VEVENT
BEGIN:VTIMEZONE
TZID:America/Detroit
X-LIC-LOCATION:America/Detroit
BEGIN:STANDARD
DTSTART:20231105T010000
TZOFFSETFROM:-0400
TZOFFSETTO:-0500
TZNAME:EST
END:STANDARD
END:VTIMEZONE
END:VCALENDAR