BEGIN:VCALENDAR
VERSION:2.0
PRODID:-//wp-events-plugin.com//7.2.3.1//EN
TZID:America/Detroit
X-WR-TIMEZONE:America/Detroit
BEGIN:VEVENT
UID:32261@arabamerica.com
DTSTART;TZID=America/Detroit:20240301T190000
DTEND;TZID=America/Detroit:20240301T210000
DTSTAMP:20240219T165415Z
URL:https://www.arabamerica.com/events/healing-for-palestine-benefit-show-
 hosted-by-wildchoir/
SUMMARY:Healing for Palestine - Benefit Show\, hosted by Wildchoir
DESCRIPTION:&nbsp\;\n\n[caption id="attachment_245138" align="alignnone" wi
 dth="300"] Healing for Palestine- Wildchoir Lead Promotional Image[/captio
 n]\n\n&nbsp\;\n\nOAKLAND\, CALIFORNIA\n\n\n\n\n\n\nJoin us March 1st for a
 n generative and healing concert to raise funds and awareness to support t
 he Palestinian people in the war in Gaza. Come channel your grief and pray
 ers into healing and action as we join together\, connecting with local ac
 tivists. You'll be serenaded by Adrienne Shamszad\, Austin Willacy\, Joyou
 s Dawn\, and Wildchoir!\n\nWe will be gathering at First Congregational Ch
 urch of Oakland\, a historic church in downtown Oakland.\n\nNote: This wil
 l be a masking-required event. Help us protect our community - masking is 
 community care!\n\nDoors @ 6:30pm\n\nShow @ 7pm\n\nThis event is co-sponso
 red by JVP - Bay Area and Healthcare Workers for Palestine - Bay Area.\n\n
 \n\n\n\n
ATTACH;FMTTYPE=image/jpeg:https://www.arabamerica.com/wp-content/uploads/2
 024/02/Healing-for-Palestine-Wildchoir-lead-promotional-image-.png
END:VEVENT
BEGIN:VTIMEZONE
TZID:America/Detroit
X-LIC-LOCATION:America/Detroit
BEGIN:STANDARD
DTSTART:20231105T010000
TZOFFSETFROM:-0400
TZOFFSETTO:-0500
TZNAME:EST
END:STANDARD
END:VTIMEZONE
END:VCALENDAR