BEGIN:VCALENDAR
VERSION:2.0
PRODID:-//wp-events-plugin.com//7.2.3.1//EN
TZID:America/Detroit
X-WR-TIMEZONE:America/Detroit
BEGIN:VEVENT
UID:35253@arabamerica.com
DTSTART;TZID=America/Detroit:20251108T183000
DTEND;TZID=America/Detroit:20251108T220000
DTSTAMP:20251015T004237Z
URL:https://www.arabamerica.com/events/healing-hearts-breaking-generationa
 l-trauma-dinner-included/
SUMMARY:Healing Hearts: Breaking Generational Trauma - Dinner Included
DESCRIPTION:BLOOMFIELD TOWNSHIP\, MI\n\nSupporting Palestinian &amp\; Syria
 n Refugee Widows &amp\; Orphans\n\nTrue healing begins when we come togeth
 er.\n\nJoin Ustadha Yasmin Mogahed and Imam Siraj Wahhaj for an evening th
 at goes beyond conversation\, where we explore how to heal from generation
 al trauma and build a future rooted in hope.\n\nThis special night also su
 pports Palestinian and Syrian refugee widows and orphans. Thanks to suppor
 ters like you\, Droplets of Mercy USA has launched a Widow &amp\; Orphan C
 enter\, providing shelter\, support\, and vocational training. Hear inspir
 ing stories from the ground and see how your presence can change lives.\n\
 nDinner Included\n\nGet Tickets Here
ATTACH;FMTTYPE=image/jpeg:https://www.arabamerica.com/wp-content/uploads/2
 025/10/Screenshot-2025-10-14-at-1.32.59-PM.png
LOCATION:The Muslim Unity Center\, 1830 W Square Lake Rd\, bloomfield Hills
 \, Michigan\, United States
GEO:42.605046;-83.3157559
X-APPLE-STRUCTURED-LOCATION;VALUE=URI;X-ADDRESS=1830 W Square Lake Rd\, blo
 omfield Hills\, Michigan\, United States;X-APPLE-RADIUS=100;X-TITLE=The Mu
 slim Unity Center:geo:42.605046,-83.3157559
END:VEVENT
BEGIN:VTIMEZONE
TZID:America/Detroit
X-LIC-LOCATION:America/Detroit
BEGIN:STANDARD
DTSTART:20251102T010000
TZOFFSETFROM:-0400
TZOFFSETTO:-0500
TZNAME:EST
END:STANDARD
END:VTIMEZONE
END:VCALENDAR