BEGIN:VCALENDAR
VERSION:2.0
PRODID:-//wp-events-plugin.com//7.2.3.1//EN
TZID:America/Detroit
X-WR-TIMEZONE:America/Detroit
BEGIN:VEVENT
UID:35251@arabamerica.com
DTSTART;TZID=America/Detroit:20251206T180000
DTEND;TZID=America/Detroit:20251206T210000
DTSTAMP:20251014T172804Z
URL:https://www.arabamerica.com/events/healing-with-hope-one-year-of-liber
 ation-in-syria-solidarity-with-gaza/
SUMMARY:Healing with Hope: One Year of Liberation in Syria & Solidarity wit
 h Gaza
DESCRIPTION:DUBLIN\, OH\n\nLet's Join Together to Support SAMS' Medical Rel
 ief Efforts\n\nAbout this event\n\nCharity &amp\; Causes • International
  Aid\n\n\n\n\n\n\nJoin the Syrian American Medical Society (SAMS) Ohio Cha
 pter for a powerful evening of inspiration\, community\, and giving. We ar
 e honored to welcome Yahya Hawwa\, for a special performance and message o
 f hope.\n\nThis event will raise awareness and support for SAMS’ life-sa
 ving relief work in Syria and Gaza. Enjoy dinner\, nasheed\, and stories t
 hat uplift the spirit and strengthen our shared commitment to helping peop
 le in Syria and Gaza recover from unimaginable tragedy.\n\nBuy your ticket
  today. Please pay by credit card/debit card (not PayPal). Free babysittin
 g is available.For questions\, please email info@sams-usa.net.\n\nSAMS wou
 ld like to thank Noor Islamic Cultural Center for partnering with us to ho
 ld this event.\n\nSyrian American Medical Society (SAMS) Foundation\n\nwww
 .sams-usa.net\n\nGet Tickets Here\n\n\n\n\n\n
ATTACH;FMTTYPE=image/jpeg:https://www.arabamerica.com/wp-content/uploads/2
 025/10/Screenshot-2025-10-14-at-1.21.18-PM.png
LOCATION:5550 Britton Pkwy\, 5550 Britton Parkway\, Dublin\, OH\, 43016\, U
 nited States
GEO:40.066933;-83.135647
X-APPLE-STRUCTURED-LOCATION;VALUE=URI;X-ADDRESS=5550 Britton Parkway\, Dubl
 in\, OH\, 43016\, United States;X-APPLE-RADIUS=100;X-TITLE=5550 Britton Pk
 wy:geo:40.066933,-83.135647
END:VEVENT
BEGIN:VTIMEZONE
TZID:America/Detroit
X-LIC-LOCATION:America/Detroit
BEGIN:STANDARD
DTSTART:20251102T010000
TZOFFSETFROM:-0400
TZOFFSETTO:-0500
TZNAME:EST
END:STANDARD
END:VTIMEZONE
END:VCALENDAR