BEGIN:VCALENDAR
VERSION:2.0
PRODID:-//wp-events-plugin.com//7.2.3.1//EN
TZID:America/Detroit
X-WR-TIMEZONE:America/Detroit
BEGIN:VEVENT
UID:35470@arabamerica.com
DTSTART;TZID=America/Detroit:20251125T000000
DTEND;TZID=America/Detroit:20260405T000000
DTSTAMP:20260319T030332Z
URL:https://www.arabamerica.com/events/hearts-to-gaza-postcards-of-love-fo
 r-palestinian-children/
SUMMARY:Hearts to Gaza: Postcards of Love for Palestinian Children
DESCRIPTION:\n\n\n\n\n\n\n\n\n\n\n\n\n\n\nDear Friends\,\n\n&nbsp\;\n\nThe 
 Palestine Foundation is excited to announce our latest initiative\, a proj
 ect where the whole family can support Palestine and its children with mes
 sages of love and visual hugs from afar: Hearts to Gaza – Postcards of 
 Love to Palestinian Children.\n\n&nbsp\;\n\nJoin us for this children’s 
 art project and competition to send our love to Palestinian children in Ga
 za. This is open to all children between the ages of 4 and 12! \n\n\n\n\
 n\n\n\n\n\n\nSubmit a postcard today!\n\n\n\n\n\n\n\n\n\n\nHearts to Gaza
  raises awareness about the struggles of Palestinian children\, and get
 s children worldwide involved in connecting through art and messages of h
 ope. These postcards remind Palestinian kids — especially those in Gaza 
 — that they are loved and not forgotten\, while empowering kids to adv
 ocate creatively for human rights.\n\n&nbsp\;\n\nThe Hearts to Gaza childr
 en’s art competition is designed to both encourage children around the w
 orld to share their love with Palestinian children and to recognize their 
 work through publication and distribution. We welcome submissions from chi
 ldren in three age categories:\n\n&nbsp\;\n\n 	Category 1: 4-6 years\n 	Ca
 tegory 2: 7-9 years\n 	Category 3: 10-12 years\n\n\n\n\n\n\n\n\n\n\n\n\n
 \nHearts to Gaza begins today\, November 20\, 2025 — International Child
 ren’s Day. Submissions close on April 5\, 2026 – Palestinian Children
 ’s Day.\n\n&nbsp\;\n\nCompetition winners will be featured in interviews
 \, social media\, a website gallery\, a booklet and a potential calendar f
 eaturing the Hearts to Gaza children’s art.\n\n&nbsp\;\n\nAll proceeds f
 rom donations to the Hearts to Gaza campaign\, or from the sale of the art
 work publications\, will be donated to a Palestinian partner organization 
 on the ground in Gaza\, for the specific purpose of providing art supplies
  and psycho-social support through art to children.\n\n&nbsp\;\n\nWe welco
 me submissions from school classes\, preschools\, youth groups\, scouts an
 d other groups! All children must have a parent or guardian's permission t
 o enter\, and we'll take care to protect kids' personal information.\n\n&n
 bsp\;\n\nLearn more by visiting the Hearts to Gaza special website\, and s
 ubmit your child's art today! \n\n\n\n\n\n\n\n\n\n\nVisit Hearts to Gaza\
 n\n\n\n\n\n\n\n\n\n\n\n\n\n\n\n\n\n\n\n\n\n\n\n\n\n\n\n\n\n\n\n\n\n\n\n\n\
 n\n\n\n\n\n\n\n\n\n\n\n\nThe Palestine Foundation is continuing its work t
 o support\, advance and promote the Palestinian people\, amid ongoing geno
 cide\, offering hope and humanity. Lend your support to the Foundation's u
 rgent efforts below.\n\n\n\n\n\n\n\n\n\n\nDONATE TO THE PALESTINE FOUNDATI
 ON\n\n\n\n\n\n\n\n\n\n\n\n\n\n\n\n\n\n
ATTACH;FMTTYPE=image/jpeg:https://www.arabamerica.com/wp-content/uploads/2
 025/11/hearts-to-gaza_1.png
END:VEVENT
BEGIN:VTIMEZONE
TZID:America/Detroit
X-LIC-LOCATION:America/Detroit
BEGIN:STANDARD
DTSTART:20251102T010000
TZOFFSETFROM:-0400
TZOFFSETTO:-0500
TZNAME:EST
END:STANDARD
BEGIN:DAYLIGHT
DTSTART:20260308T030000
TZOFFSETFROM:-0500
TZOFFSETTO:-0400
TZNAME:EDT
END:DAYLIGHT
END:VTIMEZONE
END:VCALENDAR