BEGIN:VCALENDAR
VERSION:2.0
PRODID:-//wp-events-plugin.com//7.2.3.1//EN
TZID:America/Detroit
X-WR-TIMEZONE:America/Detroit
BEGIN:VEVENT
UID:35116@arabamerica.com
DTSTART;TZID=America/Detroit:20250921T120000
DTEND;TZID=America/Detroit:20250921T160000
DTSTAMP:20250915T210307Z
URL:https://www.arabamerica.com/events/henna-4-hope-a-gaza-fundraiser/
SUMMARY:Henna 4 Hope: A Gaza Fundraiser
DESCRIPTION:BROOKLYN\, NY\n\n\n\nJoin us for an afternoon of culture and co
 mmunity. Purchase a Henna tattoo with all proceeds benefitting GPH's soup 
 kitchens in Gaza.
ATTACH;FMTTYPE=image/jpeg:https://www.arabamerica.com/wp-content/uploads/2
 025/09/h.jpeg
LOCATION:Flower Cat\, 162 Noble Street \, Brooklyn\, NY\, 11222\, United St
 ates
GEO:40.728717;-73.953855
X-APPLE-STRUCTURED-LOCATION;VALUE=URI;X-ADDRESS=162 Noble Street \, Brookly
 n\, NY\, 11222\, United States;X-APPLE-RADIUS=100;X-TITLE=Flower Cat:geo:4
 0.728717,-73.953855
END:VEVENT
BEGIN:VTIMEZONE
TZID:America/Detroit
X-LIC-LOCATION:America/Detroit
BEGIN:DAYLIGHT
DTSTART:20250309T030000
TZOFFSETFROM:-0500
TZOFFSETTO:-0400
TZNAME:EDT
END:DAYLIGHT
END:VTIMEZONE
END:VCALENDAR