BEGIN:VCALENDAR
VERSION:2.0
PRODID:-//wp-events-plugin.com//7.2.3.1//EN
TZID:America/Detroit
X-WR-TIMEZONE:America/Detroit
BEGIN:VEVENT
UID:36129@arabamerica.com
DTSTART;TZID=America/New_York:20260419T180000
DTEND;TZID=America/New_York:20260419T210000
DTSTAMP:20260401T011322Z
URL:https://www.arabamerica.com/events/henna-falastiniya-womens-only-event
 /
SUMMARY:Henna Falastiniya- Women's Only Event
DESCRIPTION:\n\n\nJoin us for a special evening celebrating Palestinian cul
 ture\, tradition\, and sisterhood through the beauty of the Palestinian He
 nna party.\n\n\n\n\n\nHenna Falastiniya\nGet ready for a super fun in-pers
 on event all about beautiful henna art with a twist of Palestinian culture
 ! Whether you're a henna pro or just curious\, come hang out\, learn cool 
 designs\, and enjoy some good vibes. It's the perfect chance to connect\, 
 create\, and celebrate tradition together. Don't miss out on the colorful 
 fun at Henna Falastiniya!\n\n\n
ATTACH;FMTTYPE=image/jpeg:https://www.arabamerica.com/wp-content/uploads/2
 026/03/HENNA.webp
LOCATION:Popp-Martin Student Union\, 8845 Craver Road\, Charlotte\, NC\, 28
 223\, United States
GEO:35.308643;-80.733748
X-APPLE-STRUCTURED-LOCATION;VALUE=URI;X-ADDRESS=8845 Craver Road\, Charlott
 e\, NC\, 28223\, United States;X-APPLE-RADIUS=100;X-TITLE=Popp-Martin Stud
 ent Union:geo:35.308643,-80.733748
END:VEVENT
BEGIN:VTIMEZONE
TZID:America/New_York
X-LIC-LOCATION:America/New_York
BEGIN:DAYLIGHT
DTSTART:20260308T030000
TZOFFSETFROM:-0500
TZOFFSETTO:-0400
TZNAME:EDT
END:DAYLIGHT
END:VTIMEZONE
END:VCALENDAR