BEGIN:VCALENDAR
VERSION:2.0
PRODID:-//wp-events-plugin.com//7.2.3.1//EN
TZID:America/Detroit
X-WR-TIMEZONE:America/Detroit
BEGIN:VEVENT
UID:34604@arabamerica.com
DTSTART;TZID=America/Detroit:20250708T183000
DTEND;TZID=America/Detroit:20250708T203000
DTSTAMP:20250617T072702Z
URL:https://www.arabamerica.com/events/heritage-in-bloom-al-hadiqa-tour/
SUMMARY:Heritage in Bloom: Al-Hadiqa Tour
DESCRIPTION:DEARBORN\, MI\n6:30-8:30 p.m. ET Tuesday\, July 8\, 2025\nHerit
 age in Bloom: Al-Hadiqa Tour\nPurchase Tickets\nMuseum Members: $10\nStude
 nt/Senior: $12\nGeneral Public: $15\n\nEmbark on a garden tour delving int
 o the diverse world of Arab American plants and gardening! We will explore
  Al-Hadiqa\, AANM’s rooftop heritage garden\, weaving together stories o
 f aromatic herbs like za’atar and thyme\, alongside fig and olive trees 
 with rich histories. This tour invites you to explore the ancestral practi
 ces and deep-rooted connections flourishing within our garden\, celebratin
 g the distinctive Arab gardening traditions thriving in Dearborn and Detro
 it.
ATTACH;FMTTYPE=image/jpeg:https://www.arabamerica.com/wp-content/uploads/2
 025/06/Screenshot-2025-06-17-at-10.26.41 AM.png
LOCATION:Arab American Museum\, 13624 Michigan Avenue\, Dearborn\, MI\, Uni
 ted States
GEO:42.3222224;-83.1766346
X-APPLE-STRUCTURED-LOCATION;VALUE=URI;X-ADDRESS=13624 Michigan Avenue\, Dea
 rborn\, MI\, United States;X-APPLE-RADIUS=100;X-TITLE=Arab American Museum
 :geo:42.3222224,-83.1766346
END:VEVENT
BEGIN:VTIMEZONE
TZID:America/Detroit
X-LIC-LOCATION:America/Detroit
BEGIN:DAYLIGHT
DTSTART:20250309T030000
TZOFFSETFROM:-0500
TZOFFSETTO:-0400
TZNAME:EDT
END:DAYLIGHT
END:VTIMEZONE
END:VCALENDAR