BEGIN:VCALENDAR
VERSION:2.0
PRODID:-//wp-events-plugin.com//7.2.3.1//EN
TZID:America/Detroit
X-WR-TIMEZONE:America/Detroit
BEGIN:VEVENT
UID:35893@arabamerica.com
DTSTART;TZID=America/Detroit:20260220T170000
DTEND;TZID=America/Detroit:20260220T210000
DTSTAMP:20260218T030127Z
URL:https://www.arabamerica.com/events/hhrd-restoring-hope-for-gaza-and-su
 danese-refugees-baltimore-grand-iftar/
SUMMARY:HHRD--Restoring Hope for Gaza and Sudanese Refugees @ Baltimore Gra
 nd Iftar
DESCRIPTION:Overview\n\n\n\n\n\nJoin HHRD on February 20th for iftar\, as w
 e work together Restoring Hope for Gaza and Sudanese Refugees!\n\n\n\n\n\n
 \nJoin Helping Hand for Relief and Development (HHRD) for a fundraising 
 iftar to benefit Gaza and Sudanese refugees.\n\nHHRD's Mid-Atlantic Region
 al Manager\, Adel Tahir\, has just returned from iKenya and will share fir
 st-hand accounts of the help HHRD is providing to desperate Sudanese refug
 ees in Kenya\, and information on what MORE we all can do to ease their su
 ffering.\n\nJoin HHRD in making a life-saving difference!\n&#x1f4c5\; Eve
 nt Details\n\n 	Date: Friday\, February 20th\, 2026\n 	Time: 5:00 PM –
  9:00 PM\n 	Venue: Kahler Hall\, 5440 Old Tucker Row\, Columbia\, MD 2104
 4\n 	Tickets: Free!\n\n&#x1f4de\; Contact\n\n 	Adel Tahir 703-380-7333\n 
 	Ghazala Ali 301-524-1024\n\nFYI--for your convenience\, taraweeh prayers 
 will be held on site and will be led by Qari Ibrahim Asif\n\n\n\n
ATTACH;FMTTYPE=image/jpeg:https://www.arabamerica.com/wp-content/uploads/2
 026/02/image-26-1.webp
LOCATION:Kahler Hall\, 5440 Old Tucker Row\, Colombia\, MD\, 21044\, United
  States
GEO:39.222289;-76.888311
X-APPLE-STRUCTURED-LOCATION;VALUE=URI;X-ADDRESS=5440 Old Tucker Row\, Colom
 bia\, MD\, 21044\, United States;X-APPLE-RADIUS=100;X-TITLE=Kahler Hall:ge
 o:39.222289,-76.888311
END:VEVENT
BEGIN:VTIMEZONE
TZID:America/Detroit
X-LIC-LOCATION:America/Detroit
BEGIN:STANDARD
DTSTART:20251102T010000
TZOFFSETFROM:-0400
TZOFFSETTO:-0500
TZNAME:EST
END:STANDARD
END:VTIMEZONE
END:VCALENDAR