BEGIN:VCALENDAR
VERSION:2.0
PRODID:-//wp-events-plugin.com//7.2.3.1//EN
TZID:America/Detroit
X-WR-TIMEZONE:America/Detroit
BEGIN:VEVENT
UID:35781@arabamerica.com
DTSTART;TZID=America/Los_Angeles:20260222T160000
DTEND;TZID=America/Los_Angeles:20260222T160000
DTSTAMP:20260129T214015Z
URL:https://www.arabamerica.com/events/hhrd-socal-grand-iftar/
SUMMARY:HHRD SoCal Grand Iftar
DESCRIPTION:Join us for a special Ramadan Iftar Dinner event dedicated to s
 upporting communities in need across the world. Be a part of our Ramadan t
 heme: "Hands of Mercy: Where Faith Meets Action."
ATTACH;FMTTYPE=image/jpeg:https://www.arabamerica.com/wp-content/uploads/2
 026/01/image-6-1.webp
CATEGORIES:Iftar,Islam,Islam Faith,Islamic,Ramadan
LOCATION:222 North Vineyard Avenue\, 222 North Vineyard Avenue\, Ontario\, 
 CA\, 91764\, United States
GEO:34.066124;-117.609608
X-APPLE-STRUCTURED-LOCATION;VALUE=URI;X-ADDRESS=222 North Vineyard Avenue\,
  Ontario\, CA\, 91764\, United States;X-APPLE-RADIUS=100;X-TITLE=222 North
  Vineyard Avenue:geo:34.066124,-117.609608
END:VEVENT
BEGIN:VTIMEZONE
TZID:America/Los_Angeles
X-LIC-LOCATION:America/Los_Angeles
BEGIN:STANDARD
DTSTART:20251102T010000
TZOFFSETFROM:-0700
TZOFFSETTO:-0800
TZNAME:PST
END:STANDARD
END:VTIMEZONE
END:VCALENDAR