BEGIN:VCALENDAR
VERSION:2.0
PRODID:-//wp-events-plugin.com//7.2.3.1//EN
TZID:America/Detroit
X-WR-TIMEZONE:America/Detroit
BEGIN:VEVENT
UID:35875@arabamerica.com
DTSTART;TZID=America/Detroit:20260417T180000
DTEND;TZID=America/Detroit:20260417T213000
DTSTAMP:20260216T212633Z
URL:https://www.arabamerica.com/events/hikayat-falasteen/
SUMMARY:Hikayat Falasteen
DESCRIPTION:Hikayat Falasteen: Sharing Stories\, Keeping the Spirit Alive\n
 \nJoin us for a memorable evening celebrating the rich culture\, music\, a
 nd flavors of Palestine at our “Hikayat Falasteen ” Fundraiser! Bring 
 your friends\, family\, and loved ones for a night full of entertainment\,
  delicious food\, and a chance to support a meaningful cause.\n\nWe will b
 e hosting this special event at Fairleigh Dickinson University\, Madison C
 ampus\, on Friday\, April 17\, at 6:00 PM (Eastern Time). The evening prom
 ises live music\, traditional dance performances\, and a variety of authen
 tic Palestinian dishes for you to enjoy. The purpose of this event is to s
 howcase the beauty of Palestinian culture and preserve its stories\, herit
 age\, and spirit.\n\nLet's come together to raise awareness and funds for 
 Palestine. Your participation can make a real impact and help support thos
 e in need.\n\nDon’t miss out on a night of culture\, connection\, and gi
 ving back. We can’t wait to see you there!
ATTACH;FMTTYPE=image/jpeg:https://www.arabamerica.com/wp-content/uploads/2
 026/02/image-10-1.webp
LOCATION:Fairleigh Dickinson University\, 285 Madison Avenue\, Madison\, NJ
 \, 07940\, United States
GEO:40.773865;-74.439819
X-APPLE-STRUCTURED-LOCATION;VALUE=URI;X-ADDRESS=285 Madison Avenue\, Madiso
 n\, NJ\, 07940\, United States;X-APPLE-RADIUS=100;X-TITLE=Fairleigh Dickin
 son University:geo:40.773865,-74.439819
END:VEVENT
BEGIN:VTIMEZONE
TZID:America/Detroit
X-LIC-LOCATION:America/Detroit
BEGIN:DAYLIGHT
DTSTART:20260308T030000
TZOFFSETFROM:-0500
TZOFFSETTO:-0400
TZNAME:EDT
END:DAYLIGHT
END:VTIMEZONE
END:VCALENDAR