BEGIN:VCALENDAR
VERSION:2.0
PRODID:-//wp-events-plugin.com//7.2.3.1//EN
TZID:America/Detroit
X-WR-TIMEZONE:America/Detroit
BEGIN:VEVENT
UID:35098@arabamerica.com
DTSTART;TZID=America/New_York:20251115T193000
DTEND;TZID=America/New_York:20251115T213000
DTSTAMP:20250909T233444Z
URL:https://www.arabamerica.com/events/hilarious-habibis-3/
SUMMARY:Hilarious Habibis
DESCRIPTION:\n\n\nPHILADELPHIA\, PA\n\n&nbsp\;\nHollywood’s PREMIER stand
 -up showcase featuring comedians of Arab\, Middle Eastern\, and North Afri
 can descent.\nFeatured on Netflix Is A Joke Fest and Arab News\, Hilarious
  Habibis is Hollywood's premier stand-up comedy showcase featuring Middle 
 Eastern &amp\; North African comedians.The show aims to bring together a d
 iverse group of artists and audiences to laugh about everything\, from bro
 wn parent trauma and cultural hiccups to AMC commercials and lube.\n\nProd
 uced by LA-based Syrian-American comedians Gena B. Jones (Regular\, The Ho
 llywood Improv) and Lynn Maleh (TV Writer\, Fox)\, Hilarious Habibis lends
  a definitively female voice to the Middle Eastern comedy landscape.\n\nNo
 te: this show does not adhere to "clean" or "religious-friendly" comedy. P
 erformances may contain profanity\, sexually-explicit topics\, criticisms 
 of religion and/or politics. The show skews ultra liberal and first-gen an
 d is not recommended for anyone with preconceived notions of what Middle E
 astern comedy should look or feel like.\n\nNO REFUNDS.\n\n21+ unless with 
 parent or guardian.\n\nDrinks for sale by Love City in our showroom bar\n\
 nPlease note: This venue is not wheelchair accessible.\n\nGET TICKETS HERE
 \n\n\n\n\n\n\n\n\n\n\n\n\n\n
ATTACH;FMTTYPE=image/jpeg:https://www.arabamerica.com/wp-content/uploads/2
 025/09/Screenshot-2025-09-09-at-7.31.10-PM.png
LOCATION:next in line comedy\, 1025 Hamilton Street\, Philadelphia\, PA\, 1
 9123\, United States
GEO:39.960339;-75.155781
X-APPLE-STRUCTURED-LOCATION;VALUE=URI;X-ADDRESS=1025 Hamilton Street\, Phil
 adelphia\, PA\, 19123\, United States;X-APPLE-RADIUS=100;X-TITLE=next in l
 ine comedy:geo:39.960339,-75.155781
END:VEVENT
BEGIN:VTIMEZONE
TZID:America/New_York
X-LIC-LOCATION:America/New_York
BEGIN:STANDARD
DTSTART:20251102T010000
TZOFFSETFROM:-0400
TZOFFSETTO:-0500
TZNAME:EST
END:STANDARD
END:VTIMEZONE
END:VCALENDAR