BEGIN:VCALENDAR
VERSION:2.0
PRODID:-//wp-events-plugin.com//7.2.3.1//EN
TZID:America/Detroit
X-WR-TIMEZONE:America/Detroit
BEGIN:VEVENT
UID:36112@arabamerica.com
DTSTART;TZID=America/Detroit:20260418T150000
DTEND;TZID=America/Detroit:20260418T170000
DTSTAMP:20260331T184619Z
URL:https://www.arabamerica.com/events/hind-rajab-play-conversation-with-p
 rofessor-hughes/
SUMMARY:Hind Rajab Play & Conversation with Professor Hughes
DESCRIPTION:A poetic stage play and guided conversation exploring memory\, 
 voice\, and the lived realities of Palestine.\n\nHind Rajab: In Her Voice 
 is a poetic stage performance- a ritual act of witness and remembrance hon
 oring Hind Rajab\, a six-year-old Palestinian girl killed in Gaza in 2024.
  The performance does not retell events. It does not reenact. It moves as 
 ritual- built from childhood memory\, poetic testimony\, and sacred silenc
 e. Her voice emerges through fragments: moments of play\, tenderness\, fea
 r\, and hope. Everyday details become acts of resistance. The intimacy of 
 a room. The language of family. The texture of a morning. As the arc deepe
 ns\, language sharpens\, moving from innocence toward insistence. The audi
 ence is not asked to watch what happened. They are asked to witness. To ca
 rry her name and the lives of nearly twenty thousand children killed in Ga
 za- as demand.\n\nFollowing the performance\; An intimate conversation wit
 h Professor Sara Salazar Hughes\, scholar of colonialism and occupation of
  Palestine\, opens a wider examination of the realities of colonization in
  the West Bank and greater Palestine: the structures behind it\, the menta
 lity that drives it\, and the Palestinian cost resulting from it. The segm
 ent concludes with an open Q&amp\;A.\n\nSponsored By: Arab American Club o
 f Monterey County\, International Poetry Gathering of Monterey\, Central C
 oast Advocates for Middle East Peace\n\n&nbsp\;
ATTACH;FMTTYPE=image/jpeg:https://www.arabamerica.com/wp-content/uploads/2
 026/03/image-47.webp
LOCATION:Irvine Auditorium\, 499 Pierce Street\, Monterey\, CA\, 93940\, Un
 ited States
GEO:36.598767;-121.89655
X-APPLE-STRUCTURED-LOCATION;VALUE=URI;X-ADDRESS=499 Pierce Street\, Montere
 y\, CA\, 93940\, United States;X-APPLE-RADIUS=100;X-TITLE=Irvine Auditoriu
 m:geo:36.598767,-121.89655
END:VEVENT
BEGIN:VTIMEZONE
TZID:America/Detroit
X-LIC-LOCATION:America/Detroit
BEGIN:DAYLIGHT
DTSTART:20260308T030000
TZOFFSETFROM:-0500
TZOFFSETTO:-0400
TZNAME:EDT
END:DAYLIGHT
END:VTIMEZONE
END:VCALENDAR