BEGIN:VCALENDAR
VERSION:2.0
PRODID:-//wp-events-plugin.com//7.2.3.1//EN
TZID:America/Detroit
X-WR-TIMEZONE:America/Detroit
BEGIN:VEVENT
UID:35192@arabamerica.com
DTSTART;TZID=America/Detroit:20251017T120000
DTEND;TZID=America/Detroit:20251017T133000
DTSTAMP:20251006T202837Z
URL:https://www.arabamerica.com/events/hisham-sharabi-memorial-lecture-wit
 h-dr-fida-adely-and-dr-edmund-ghareeb/
SUMMARY:Hisham Sharabi Memorial Lecture with Dr. Fida Adely and Dr. Edmund 
 Ghareeb
DESCRIPTION:WASHINGTON\, DC\n\n\n\nThe 2025 Hisham Sharabi Memorial Lecture
  honors the vision and intellectual legacy of Dr. Hisham Sharabi\, whose w
 ork as a scholar\, activist\, and founder continues to shape Arab studies 
 and advocacy today. This year\, as the Center for Contemporary Arab Studie
 s (CCAS) at Georgetown University\, founded by Sharabi and his colleagues\
 , marks its 50th anniversary\, we are proud to partner with CCAS to reflec
 t on that enduring impact. We are honored to host Dr. Fida Adely\, Directo
 r of CCAS\, and The Jerusalem Fund’s Senior Scholar\, Dr. Edmund Ghareeb
 \, for a discussion that pays tribute to Sharabi’s lifelong commitment t
 o advancing critical scholarship and fostering dialogue on Arab society\, 
 politics\, and culture.\n\nThis event is open to the public and will be li
 ve-streamed on Zoom and our social media channels.\n\nRegister here to att
 end virtually: https://us02web.zoom.us/webinar/register/WN_jN2Or1-KTYeTsEa
 G88Hu0A#/registration
ATTACH;FMTTYPE=image/jpeg:https://www.arabamerica.com/wp-content/uploads/2
 025/10/hiii.jpeg
LOCATION:The Jerusalem Fund & Palestine Center\, 2425 Virginia Ave NW\, Was
 hington\, District of Columbia\, 20037\, United States
GEO:38.8988618;-77.0525414
X-APPLE-STRUCTURED-LOCATION;VALUE=URI;X-ADDRESS=2425 Virginia Ave NW\, Wash
 ington\, District of Columbia\, 20037\, United States;X-APPLE-RADIUS=100;X
 -TITLE=The Jerusalem Fund & Palestine Center:geo:38.8988618,-77.0525414
END:VEVENT
BEGIN:VTIMEZONE
TZID:America/Detroit
X-LIC-LOCATION:America/Detroit
BEGIN:DAYLIGHT
DTSTART:20250309T030000
TZOFFSETFROM:-0500
TZOFFSETTO:-0400
TZNAME:EDT
END:DAYLIGHT
END:VTIMEZONE
END:VCALENDAR