BEGIN:VCALENDAR
VERSION:2.0
PRODID:-//wp-events-plugin.com//7.2.3.1//EN
TZID:America/Detroit
X-WR-TIMEZONE:America/Detroit
BEGIN:VEVENT
UID:32906@arabamerica.com
DTSTART;TZID=America/Detroit:20240622T190000
DTEND;TZID=America/Detroit:20240622T210000
DTSTAMP:20240528T174735Z
URL:https://www.arabamerica.com/events/historical-and-political-education-
 series-the-nakba-1948/
SUMMARY:Historical and Political Education Series: The Nakba 1948
DESCRIPTION:PORTLAND\, OR\n\n\nPart 3 of the history of Israeli occupation 
 of Palestine\n\n\n\n\n\n\n\nThe Nakba was the violent displacement and dis
 possession of hundreds of thousands of Palestinians in 1948. During the Na
 kba\, Zionist forces carried out a program of societal\, cultural\, and po
 litical erasure of Palestinians to pave way for their nation building aspi
 rations. This lecture will go in to the details of important events that o
 ccurred during the first major dispossession in Palestinian history.\n\n\n
 \n\n\n\n\n
ATTACH;FMTTYPE=image/jpeg:https://www.arabamerica.com/wp-content/uploads/2
 024/05/temp-43.jpg
LOCATION:One Grand Gallery\, 1000 East Burnside Street\, Portland\, Oregon\
 , 97214\, United States
GEO:45.522744;-122.655385
X-APPLE-STRUCTURED-LOCATION;VALUE=URI;X-ADDRESS=1000 East Burnside Street\,
  Portland\, Oregon\, 97214\, United States;X-APPLE-RADIUS=100;X-TITLE=One 
 Grand Gallery:geo:45.522744,-122.655385
END:VEVENT
BEGIN:VTIMEZONE
TZID:America/Detroit
X-LIC-LOCATION:America/Detroit
BEGIN:DAYLIGHT
DTSTART:20240310T030000
TZOFFSETFROM:-0500
TZOFFSETTO:-0400
TZNAME:EDT
END:DAYLIGHT
END:VTIMEZONE
END:VCALENDAR