BEGIN:VCALENDAR
VERSION:2.0
PRODID:-//wp-events-plugin.com//7.2.3.1//EN
TZID:America/Detroit
X-WR-TIMEZONE:America/Detroit
BEGIN:VEVENT
UID:35022@arabamerica.com
DTSTART;TZID=America/Detroit:20250921T130000
DTEND;TZID=America/Detroit:20250921T170000
DTSTAMP:20250820T171108Z
URL:https://www.arabamerica.com/events/hoda-kotb-3/
SUMMARY:Hoda Kotb
DESCRIPTION:\n\n\n\n\n\n\nAbout the Show\n\n\n\n\n\n\n\n\n\nFor decades\, b
 eloved Today co-anchor Hoda Kotb has inspired and uplifted millions of vie
 wers. Now\, the New York Times bestselling author is inviting readers to n
 avigate change in her new book\, Jump and Find Joy: Embracing Change in Ev
 ery Season of Life.\n\nAt 44\, Hoda joined the Today Show. At 52\, she bec
 ame a mother. And now\, at 60\, she’s stepping into a brand-new chapter
 –proof that it’s never too late to rewrite your story! In Jump\, she
 ’ll share her thoughts on what helped her find the courage to pivot\, pl
 us people she loves and respects will offer their input on how to feel ene
 rgized – not paralyzed – by the prospect of change.\n\nWith her signat
 ure warmth and candor\, Hoda invites you to an afternoon of restoration an
 d wisdom in celebration of Jump and Find Joy. In conversation with special
  guests\, Hoda will reflect on what it means to listen inward\, start agai
 n\, and step into each season of life with purpose.\n\nCome as you are and
  leave feeling uplifted\, reconnected\, and ready to leap into what’s ne
 xt!\n\nEvery ticket includes a copy of Jump and Find Joy. VIP tickets incl
 ude a signed copy of Jump and Find Joy\, premium seating and a meet &amp\;
  greet photo with Hoda.\n\n\n\n\n\n\n\n\n\n\n\n\n\n\n\n\n\n\n\n\n\n\n\n\n\
 n\n\n\nEvent Details\n\n\n\n\n\n\n\n\n\n\n\n\n\n\n\n\n\n\n\n\n\nDoors Open
 : 12:00pm\n\n\n\n\n\n\n\n\n\n\n\n\n\n\n\n\n\n\n\n\n\n\n\n\n\n\nShow Begins
 : 1:00pm\n\n\n\n\n\n\n\n\n\n\n\n\n\n\n\n\n\n\n\n\n\n\n\n\n\n\nPerformance 
 Space: Historic Main Stage\n\n\n\n\n\n\n\n\n\n\n\n\n\n\n\n\n\n\n\n\n\n\n\n
 \n\n\nAddress: 2936 N Southport Ave. Chicago\, IL 60657\n\n\n\n\n\n\n\n\n\
 n\n\n\n\n\n\n\n\n\n\n\n\n\n\n\n\n\nParking: Free parking behind the buildi
 ng on Oakdale\, and south of the building on Southport\n\n\n\n\n\n\n\n\n\n
 \n\n\n\n\n\n\n\n\n\n\n\n\n\n\n\n\nRefund Policy: NO REFUNDS\n\n\n\n\n\n\n\
 n\n\n\n\n\n\n\n\n\n
ATTACH;FMTTYPE=image/jpeg:https://www.arabamerica.com/wp-content/uploads/2
 025/08/Screenshot-2025-08-20-at-1.09.51-PM-scaled.png
LOCATION:2936 N Southport Ave. Chicago\, 2936 N Southport Ave\, Chicago\, I
 L\, 60657\, United States
GEO:41.935412;-87.6642
X-APPLE-STRUCTURED-LOCATION;VALUE=URI;X-ADDRESS=2936 N Southport Ave\, Chic
 ago\, IL\, 60657\, United States;X-APPLE-RADIUS=100;X-TITLE=2936 N Southpo
 rt Ave. Chicago:geo:41.935412,-87.6642
END:VEVENT
BEGIN:VTIMEZONE
TZID:America/Detroit
X-LIC-LOCATION:America/Detroit
BEGIN:DAYLIGHT
DTSTART:20250309T030000
TZOFFSETFROM:-0500
TZOFFSETTO:-0400
TZNAME:EDT
END:DAYLIGHT
END:VTIMEZONE
END:VCALENDAR